BEGIN:VCALENDAR
VERSION:2.0
PRODID:-//The Kerrville Life - ECPv6.15.20//NONSGML v1.0//EN
CALSCALE:GREGORIAN
METHOD:PUBLISH
X-WR-CALNAME:The Kerrville Life
X-ORIGINAL-URL:https://thekerrvillelife.com
X-WR-CALDESC:Events for The Kerrville Life
REFRESH-INTERVAL;VALUE=DURATION:PT1H
X-Robots-Tag:noindex
X-PUBLISHED-TTL:PT1H
BEGIN:VTIMEZONE
TZID:America/Chicago
BEGIN:DAYLIGHT
TZOFFSETFROM:-0600
TZOFFSETTO:-0500
TZNAME:CDT
DTSTART:20250309T080000
END:DAYLIGHT
BEGIN:STANDARD
TZOFFSETFROM:-0500
TZOFFSETTO:-0600
TZNAME:CST
DTSTART:20251102T070000
END:STANDARD
BEGIN:DAYLIGHT
TZOFFSETFROM:-0600
TZOFFSETTO:-0500
TZNAME:CDT
DTSTART:20260308T080000
END:DAYLIGHT
BEGIN:STANDARD
TZOFFSETFROM:-0500
TZOFFSETTO:-0600
TZNAME:CST
DTSTART:20261101T070000
END:STANDARD
BEGIN:DAYLIGHT
TZOFFSETFROM:-0600
TZOFFSETTO:-0500
TZNAME:CDT
DTSTART:20270314T080000
END:DAYLIGHT
BEGIN:STANDARD
TZOFFSETFROM:-0500
TZOFFSETTO:-0600
TZNAME:CST
DTSTART:20271107T070000
END:STANDARD
END:VTIMEZONE
BEGIN:VEVENT
DTSTART;TZID=America/Chicago:20260203T100000
DTEND;TZID=America/Chicago:20260203T110000
DTSTAMP:20260423T210155
CREATED:20260123T020200Z
LAST-MODIFIED:20260123T020200Z
UID:80069-1770112800-1770116400@thekerrvillelife.com
SUMMARY:Lapsit Storytime at Butt-Holdsworth Memorial Library
DESCRIPTION:Lapsit Storytime offers a gentle\, interactive experience for babies and their caregivers through books\, songs\, rhymes\, and baby playtime. The program supports early literacy and sensory exploration in a calm and welcoming library environment designed for very young children. \nSessions will be held on Tuesday\, February 3\, 10\, and 24\, 2026\, from 10 am to 11 am in the first-floor meeting room at the Butt-Holdsworth Memorial Library\, located at 505 Water Street in Kerrville\, Texas. The program is geared toward babies ages 0 to 3\, with accompanying adults expected to attend and actively participate. Drop-offs are not permitted. \nFor additional information about this program or other library offerings\, contact the Butt-Holdsworth Memorial Library at (830) 257-8422.
URL:https://thekerrvillelife.com/event/lapsit-storytime-at-butt-holdsworth-memorial-library-4/2026-02-03/
LOCATION:Butt-Holdsworth Memorial Library\, 505 Water Street\, Kerrville\, TX\, 78028\, United States
CATEGORIES:Kids & Family
ATTACH;FMTTYPE=image/jpeg:https://thekerrvillelife.com/wp-content/uploads/2026/01/lapsit-storytime-at-butt-holdsworth-memorial-library.jpg
END:VEVENT
BEGIN:VEVENT
DTSTART;TZID=America/Chicago:20260203T150000
DTEND;TZID=America/Chicago:20260203T170000
DTSTAMP:20260423T210155
CREATED:20251216T003236Z
LAST-MODIFIED:20251216T003236Z
UID:79822-1770130800-1770138000@thekerrvillelife.com
SUMMARY:River Point of Kerrville Caregivers Café
DESCRIPTION:River Point of Kerrville hosts the Caregivers Café as a supportive gathering for those caring for individuals with dementia. This monthly meet-up offers a relaxed setting where caregivers can connect over coffee and desserts while sharing ideas\, information\, experiences\, and encouragement with others who understand the journey. \nThe Caregivers Café is held on the first Tuesday of every month from 3 pm to 5 pm at River Point of Kerrville. Admission is free and open to dementia caregivers seeking community and support. For additional information\, contact Valerie Newport at (830) 955-3214. \nRiver Point of Kerrville also provides a variety of social and recreational activities for residents\, creating opportunities for connection and engagement within the community.
URL:https://thekerrvillelife.com/event/river-point-of-kerrville-caregivers-cafe-2/2026-02-03/
LOCATION:River Point of Kerrville\, 1441 Bandera Highway\, Kerrville\, TX\, 78028\, United States
CATEGORIES:Food & Drink
ATTACH;FMTTYPE=image/jpeg:https://thekerrvillelife.com/wp-content/uploads/2025/08/river-point-of-kerrville-caregivers-cafe.jpg
END:VEVENT
BEGIN:VEVENT
DTSTART;TZID=America/Chicago:20260203T180000
DTEND;TZID=America/Chicago:20260203T210000
DTSTAMP:20260423T210155
CREATED:20251111T232856Z
LAST-MODIFIED:20251111T232856Z
UID:79242-1770141600-1770152400@thekerrvillelife.com
SUMMARY:Tuesdays with Shane Stumpf at Gravity Check Saloon
DESCRIPTION:Country music fans can kick up their heels for an evening of boot-scootin’ fun as Shane Stumpf & The Heartbreak Outlaws take the stage at Gravity Check Saloon. Guests can look forward to a lively mix of classic and contemporary country favorites guaranteed to keep dancers two-stepping all night long. \nPerformances will take place from 6 pm to 9 pm on select Tuesdays\, including November 18 and 25\, December 2\, 9\, 16\, 23\, and 30\, 2025; January 6\, 13\, 20\, and 27\, 2026; February 3\, 10\, 17\, and 24\, 2026; March 3\, 10\, 17\, 24\, and 31\, 2026; and April 7\, 2026. The grill will be open until 11 pm\, and the bar will be serving drinks throughout the night. \nGravity Check Saloon is located at 315 Farm-to-Market Road 473\, Kerrville\, TX 78028.
URL:https://thekerrvillelife.com/event/tuesdays-with-shane-stumpf-at-gravity-check-saloon/2026-02-03/
LOCATION:Gravity Check Saloon and Arena\, 3979 Bandera Highway (173)\, Kerrville\, TX\, 78028\, United States
CATEGORIES:Music
ATTACH;FMTTYPE=image/jpeg:https://thekerrvillelife.com/wp-content/uploads/2025/11/tuesdays-with-shane-stumpf-at-gravity-check-saloon.jpg
END:VEVENT
END:VCALENDAR