BEGIN:VCALENDAR
VERSION:2.0
PRODID:-//The Kerrville Life - ECPv6.15.20//NONSGML v1.0//EN
CALSCALE:GREGORIAN
METHOD:PUBLISH
X-ORIGINAL-URL:https://thekerrvillelife.com
X-WR-CALDESC:Events for The Kerrville Life
REFRESH-INTERVAL;VALUE=DURATION:PT1H
X-Robots-Tag:noindex
X-PUBLISHED-TTL:PT1H
BEGIN:VTIMEZONE
TZID:America/Chicago
BEGIN:DAYLIGHT
TZOFFSETFROM:-0600
TZOFFSETTO:-0500
TZNAME:CDT
DTSTART:20250309T080000
END:DAYLIGHT
BEGIN:STANDARD
TZOFFSETFROM:-0500
TZOFFSETTO:-0600
TZNAME:CST
DTSTART:20251102T070000
END:STANDARD
BEGIN:DAYLIGHT
TZOFFSETFROM:-0600
TZOFFSETTO:-0500
TZNAME:CDT
DTSTART:20260308T080000
END:DAYLIGHT
BEGIN:STANDARD
TZOFFSETFROM:-0500
TZOFFSETTO:-0600
TZNAME:CST
DTSTART:20261101T070000
END:STANDARD
BEGIN:DAYLIGHT
TZOFFSETFROM:-0600
TZOFFSETTO:-0500
TZNAME:CDT
DTSTART:20270314T080000
END:DAYLIGHT
BEGIN:STANDARD
TZOFFSETFROM:-0500
TZOFFSETTO:-0600
TZNAME:CST
DTSTART:20271107T070000
END:STANDARD
END:VTIMEZONE
BEGIN:VEVENT
DTSTART;TZID=America/Chicago:20260116T080000
DTEND;TZID=America/Chicago:20260116T120000
DTSTAMP:20260424T023156
CREATED:20260109T011213Z
LAST-MODIFIED:20260109T011213Z
UID:79946-1768550400-1768564800@thekerrvillelife.com
SUMMARY:3rd 6-Weeks Academic Pep Rally at Tom Daniels Elementary
DESCRIPTION:Tom Daniels Elementary will host its 3rd 6-Weeks Academic Pep Rally to recognize students for their achievements and hard work during the grading period. The event highlights academic success and reinforces a positive\, encouraging school environment for students and staff. \nThe pep rally will take place on Friday\, January 16\, 2026\, at 8 am at Tom Daniels Elementary\, part of Kerrville ISD\, located at 2002 Singing Wind in Kerrville\, Texas. The gathering focuses on celebrating the accomplishments of the school’s Mustangs during the third six-week term.
URL:https://thekerrvillelife.com/event/3rd-6-weeks-academic-pep-rally-at-tom-daniels-elementary-2/
LOCATION:Tom Daniels Elementary School\, 2002 Singing Wind Drive North\, Kerrville\, TX\, 78028\, United States
CATEGORIES:General
ATTACH;FMTTYPE=image/jpeg:https://thekerrvillelife.com/wp-content/uploads/2026/01/3rd-6-weeks-academic-pep-rally-at-tom-daniels-elementary.jpg
END:VEVENT
BEGIN:VEVENT
DTSTART;TZID=America/Chicago:20260116T100000
DTEND;TZID=America/Chicago:20260116T110000
DTSTAMP:20260424T023156
CREATED:20260109T010547Z
LAST-MODIFIED:20260109T010547Z
UID:79941-1768557600-1768561200@thekerrvillelife.com
SUMMARY:Cuentos for Kids at Butt-Holdsworth Memorial Library
DESCRIPTION:Cuentos for Kids offers a bilingual storytime experience designed for young children and their families\, featuring stories\, songs\, and rhymes in both English and Spanish. The program encourages early language development and family engagement\, followed by a fun\, age-appropriate activity. \nThe storytime will take place on Friday\, January 16\, 2026\, from 10 am to 11 am in the first-floor meeting room at the Butt-Holdsworth Memorial Library\, located at 505 Water Street in Kerrville\, Texas. The program is designed for babies and young children ages 0 to 5\, with accompanying adults expected to attend and actively participate alongside their child. Drop-offs are not permitted. \nFor additional information about this program or other library events\, contact the Butt-Holdsworth Memorial Library at (830) 257-8422.
URL:https://thekerrvillelife.com/event/cuentos-for-kids-at-butt-holdsworth-memorial-library-2/
LOCATION:Butt-Holdsworth Memorial Library\, 505 Water Street\, Kerrville\, TX\, 78028\, United States
CATEGORIES:Kids & Family
ATTACH;FMTTYPE=image/jpeg:https://thekerrvillelife.com/wp-content/uploads/2026/01/cuentos-for-kids-at-butt-holdsworth-memorial-library.jpg
END:VEVENT
BEGIN:VEVENT
DTSTART;TZID=America/Chicago:20260116T100000
DTEND;TZID=America/Chicago:20260116T110000
DTSTAMP:20260424T023156
CREATED:20260109T010915Z
LAST-MODIFIED:20260109T010915Z
UID:79945-1768557600-1768561200@thekerrvillelife.com
SUMMARY:Fiber Friday at Butt-Holdsworth Memorial Library
DESCRIPTION:Fiber Friday offers adults a relaxed and social hour dedicated to knitting\, crocheting\, and other fiber arts in a welcoming library setting. Participants are invited to bring their own yarn and hooks or needles and enjoy time creating and connecting with others who share an interest in fiber crafts. \nThe program will take place on Friday\, January 2 and Friday\, January 16\, 2026\, from 10 am to 11 am in the second-floor reading area behind the reference desk at the Butt-Holdsworth Memorial Library\, located at 505 Water Street in Kerrville\, Texas. Led by Kimberly Wygant\, Fiber Friday is offered on the first and third Friday of each month and is designed for adults ages 18 and older. \nFor additional information about this program or other library offerings\, contact the Butt-Holdsworth Memorial Library at (830) 257-8422.
URL:https://thekerrvillelife.com/event/fiber-friday-at-butt-holdsworth-memorial-library-4/2026-01-16/
LOCATION:Butt-Holdsworth Memorial Library\, 505 Water Street\, Kerrville\, TX\, 78028\, United States
CATEGORIES:Arts & Culture
ATTACH;FMTTYPE=image/jpeg:https://thekerrvillelife.com/wp-content/uploads/2026/01/fiber-friday-at-butt-holdsworth-memorial-library.jpg
END:VEVENT
BEGIN:VEVENT
DTSTART;TZID=America/Chicago:20260116T113000
DTEND;TZID=America/Chicago:20260116T130000
DTSTAMP:20260424T023156
CREATED:20260109T005623Z
LAST-MODIFIED:20260109T005623Z
UID:79928-1768563000-1768568400@thekerrvillelife.com
SUMMARY:Republican Women of Kerrville Luncheon at Inn of the Hills
DESCRIPTION:The Republican Women of Kerrville host a monthly luncheon that brings members and guests together for fellowship\, discussion\, and engagement on current topics of interest. These gatherings provide an opportunity to stay informed while connecting with others in a professional and welcoming setting. \nThe luncheon is held every third Friday of the month from 11:30 am until 1 pm at the Inn of the Hills\, located at 1001 Junction Highway in Kerrville\, Texas. The cost is $16\, and reservations are required in advance. \nReservations can be made by emailing rwkcreservations@gmail.com. For additional information\, call (830) 955-5433 or visit RWKCTX.org.
URL:https://thekerrvillelife.com/event/republican-women-of-kerrville-luncheon-at-inn-of-the-hills/2026-01-16/
LOCATION:Inn of the Hills\, 1001 Junction Highway\, Kerrville\, TX\, 78028\, United States
CATEGORIES:General
ATTACH;FMTTYPE=image/jpeg:https://thekerrvillelife.com/wp-content/uploads/2026/01/republican-women-of-kerrville-luncheon-at-inn-of-the-hills.jpg
END:VEVENT
END:VCALENDAR