BEGIN:VCALENDAR
VERSION:2.0
PRODID:-//The Kerrville Life - ECPv6.15.20//NONSGML v1.0//EN
CALSCALE:GREGORIAN
METHOD:PUBLISH
X-WR-CALNAME:The Kerrville Life
X-ORIGINAL-URL:https://thekerrvillelife.com
X-WR-CALDESC:Events for The Kerrville Life
REFRESH-INTERVAL;VALUE=DURATION:PT1H
X-Robots-Tag:noindex
X-PUBLISHED-TTL:PT1H
BEGIN:VTIMEZONE
TZID:America/Chicago
BEGIN:DAYLIGHT
TZOFFSETFROM:-0600
TZOFFSETTO:-0500
TZNAME:CDT
DTSTART:20240310T080000
END:DAYLIGHT
BEGIN:STANDARD
TZOFFSETFROM:-0500
TZOFFSETTO:-0600
TZNAME:CST
DTSTART:20241103T070000
END:STANDARD
BEGIN:DAYLIGHT
TZOFFSETFROM:-0600
TZOFFSETTO:-0500
TZNAME:CDT
DTSTART:20250309T080000
END:DAYLIGHT
BEGIN:STANDARD
TZOFFSETFROM:-0500
TZOFFSETTO:-0600
TZNAME:CST
DTSTART:20251102T070000
END:STANDARD
BEGIN:DAYLIGHT
TZOFFSETFROM:-0600
TZOFFSETTO:-0500
TZNAME:CDT
DTSTART:20260308T080000
END:DAYLIGHT
BEGIN:STANDARD
TZOFFSETFROM:-0500
TZOFFSETTO:-0600
TZNAME:CST
DTSTART:20261101T070000
END:STANDARD
END:VTIMEZONE
BEGIN:VEVENT
DTSTART;VALUE=DATE:20251117
DTEND;VALUE=DATE:20251118
DTSTAMP:20260425T062303
CREATED:20251111T231557Z
LAST-MODIFIED:20251111T231557Z
UID:79226-1763337600-1763423999@thekerrvillelife.com
SUMMARY:National Hiking Day at Kerrville-Schreiner Park
DESCRIPTION:Nature enthusiasts can celebrate National Hiking Day with a full day of outdoor exploration at Kerrville-Schreiner Park. Visitors can take advantage of free park admission on Monday\, November 17\, 2025\, and enjoy miles of scenic trails that wind through the park’s Hill Country landscape. The event offers a chance to experience the park’s diverse wildlife\, river views\, and peaceful surroundings at no cost. \nThe park will be open all day for this special occasion\, giving hikers of all ages plenty of time to explore\, picnic\, or simply relax in the natural beauty of Kerrville-Schreiner Park. \nKerrville-Schreiner Park is located at 2385 Bandera Highway\, Kerrville\, TX 78028. Admission is free for all visitors on National Hiking Day.
URL:https://thekerrvillelife.com/event/national-hiking-day-at-kerrville-schreiner-park/
LOCATION:Kerrville Schreiner Park\, 2385 Bandera Highway\, Kerrville\, TX\, 78028\, United States
CATEGORIES:Outdoors
ATTACH;FMTTYPE=image/jpeg:https://thekerrvillelife.com/wp-content/uploads/2025/11/national-hiking-day-at-kerrville-schreiner-park.jpg
END:VEVENT
END:VCALENDAR