BEGIN:VCALENDAR
VERSION:2.0
PRODID:-//The Kerrville Life - ECPv6.15.20//NONSGML v1.0//EN
CALSCALE:GREGORIAN
METHOD:PUBLISH
X-WR-CALNAME:The Kerrville Life
X-ORIGINAL-URL:https://thekerrvillelife.com
X-WR-CALDESC:Events for The Kerrville Life
REFRESH-INTERVAL;VALUE=DURATION:PT1H
X-Robots-Tag:noindex
X-PUBLISHED-TTL:PT1H
BEGIN:VTIMEZONE
TZID:America/Chicago
BEGIN:DAYLIGHT
TZOFFSETFROM:-0600
TZOFFSETTO:-0500
TZNAME:CDT
DTSTART:20240310T080000
END:DAYLIGHT
BEGIN:STANDARD
TZOFFSETFROM:-0500
TZOFFSETTO:-0600
TZNAME:CST
DTSTART:20241103T070000
END:STANDARD
BEGIN:DAYLIGHT
TZOFFSETFROM:-0600
TZOFFSETTO:-0500
TZNAME:CDT
DTSTART:20250309T080000
END:DAYLIGHT
BEGIN:STANDARD
TZOFFSETFROM:-0500
TZOFFSETTO:-0600
TZNAME:CST
DTSTART:20251102T070000
END:STANDARD
BEGIN:DAYLIGHT
TZOFFSETFROM:-0600
TZOFFSETTO:-0500
TZNAME:CDT
DTSTART:20260308T080000
END:DAYLIGHT
BEGIN:STANDARD
TZOFFSETFROM:-0500
TZOFFSETTO:-0600
TZNAME:CST
DTSTART:20261101T070000
END:STANDARD
END:VTIMEZONE
BEGIN:VEVENT
DTSTART;TZID=America/Chicago:20251116T110000
DTEND;TZID=America/Chicago:20251116T170000
DTSTAMP:20260425T064452
CREATED:20250911T000454Z
LAST-MODIFIED:20250911T000454Z
UID:79070-1763290800-1763312400@thekerrvillelife.com
SUMMARY:Turtle Creek Vineyard Market Days at Turtle Creek Vineyard
DESCRIPTION:Turtle Creek Vineyard invites guests to enjoy a relaxing Hill Country afternoon at Market Days\, a free\, family-friendly event celebrating local artisans\, music\, and food. Visitors can browse a variety of vendor booths featuring handmade goods\, crafts\, and unique finds while savoring delicious bites and live music against the beautiful backdrop of the vineyard. \nThe 2025 Market Days will be held on Sundays\, September 21\, October 19\, and November 16\, from 12 pm to 6 pm. The 2026 dates include March 15\, April 19\, and May 17. \nTurtle Creek Vineyard is located at 183 Fall Creek Road\, Kerrville\, Texas 78028. Admission is free\, and all are welcome. For more information\, contact the Kerrville Area Chamber of Commerce or visit the vineyard’s website.
URL:https://thekerrvillelife.com/event/turtle-creek-vineyard-market-days-at-turtle-creek-vineyard/2025-11-16/
LOCATION:Turtle Creek Vineyard\, 183 Fall Creek Road\, Kerrville\, TX\, 78028\, United States
CATEGORIES:Kids & Family
ATTACH;FMTTYPE=image/jpeg:https://thekerrvillelife.com/wp-content/uploads/2025/09/turtle-creek-vineyard-market-days-at-turtle-creek-vineyard.jpg
END:VEVENT
BEGIN:VEVENT
DTSTART;TZID=America/Chicago:20251116T130000
DTEND;TZID=America/Chicago:20251116T160000
DTSTAMP:20260425T064452
CREATED:20251111T230327Z
LAST-MODIFIED:20251111T230327Z
UID:79221-1763298000-1763308800@thekerrvillelife.com
SUMMARY:Sunday Funday with Bob Stewart at Gravity Check Saloon
DESCRIPTION:Classic country takes center stage during Sunday Funday with Bob Stewart at Gravity Check Saloon. Bob will bring to life the timeless sounds of Ray Price\, Marty Robbins\, Faron Young\, and more\, filling the day with music that keeps toes tapping and dancers on their feet. \nThe show begins at 1 pm on Sunday\, November 16\, 2025\, at Gravity Check Saloon in Kerrville\, Texas. Guests can enjoy delicious food and drinks from the grill and bar\, which will be open throughout the afternoon and evening. \nWith its lively atmosphere and traditional country tunes\, this event offers a perfect way to spend a Sunday celebrating great music\, good company\, and Kerrville’s classic honky-tonk charm.
URL:https://thekerrvillelife.com/event/sunday-funday-with-bob-stewart-at-gravity-check-saloon/
LOCATION:Gravity Check Saloon and Arena\, 3979 Bandera Highway (173)\, Kerrville\, TX\, 78028\, United States
CATEGORIES:Music
ATTACH;FMTTYPE=image/jpeg:https://thekerrvillelife.com/wp-content/uploads/2025/11/sunday-funday-with-bob-stewart-at-gravity-check-saloon-and-arena.jpg
END:VEVENT
BEGIN:VEVENT
DTSTART;TZID=America/Chicago:20251116T140000
DTEND;TZID=America/Chicago:20251116T170000
DTSTAMP:20260425T064452
CREATED:20251030T121632Z
LAST-MODIFIED:20251030T121632Z
UID:79197-1763301600-1763312400@thekerrvillelife.com
SUMMARY:Super Hero Spectacular Weekend at Yogi Bear’s Jellystone Park Camp-Resort: Guadalupe River
DESCRIPTION:It’s time to suit up for a weekend of adventure at Super Hero Spectacular Weekend at Yogi Bear’s Jellystone Park Camp-Resort on the Guadalupe River. Families can enjoy an exciting lineup of activities celebrating both community heroes and favorite comic book legends. \nThe fun begins Friday\, November 14\, and runs through Sunday\, November 16\, 2025\, at 2605 Junction Hwy\, Kerrville\, Texas 78028. Guests can meet local heroes and explore real emergency vehicles during the Touch a Truck event\, compete in the Hero Costume Contest\, and take on the Super Hero Obstacle Course to test their powers. A special Veterans Day activity will also honor the real-life heroes who serve the community and country. \nWith adventure\, laughter\, and plenty of heroic spirit\, this action-filled weekend at Jellystone Park promises fun for the whole family.
URL:https://thekerrvillelife.com/event/super-hero-spectacular-weekend-at-yogi-bears-jellystone-park-camp-resort-guadalupe-river/2025-11-16/
LOCATION:Yogi Bear’s Jellystone Park Guadalupe River\, 2605 Junction Highway\, Kerrville\, TX\, 78028\, United States
CATEGORIES:Kids & Family
ATTACH;FMTTYPE=image/jpeg:https://thekerrvillelife.com/wp-content/uploads/2025/10/super-hero-spectacular-weekend-at-yogi-bears-jellystone-park-camp-resort-guadalupe-river.jpg
END:VEVENT
BEGIN:VEVENT
DTSTART;TZID=America/Chicago:20251116T140000
DTEND;TZID=America/Chicago:20251116T170000
DTSTAMP:20260425T064452
CREATED:20251111T230920Z
LAST-MODIFIED:20251111T230949Z
UID:79223-1763301600-1763312400@thekerrvillelife.com
SUMMARY:Celebration of Life for Juan Bonilla at 116 Misty Lane
DESCRIPTION:Family and friends are invited to gather in remembrance of Juan Bonilla\, a devoted father\, brother\, son\, and friend whose life touched many. This gathering will be a time to share memories\, honor his legacy\, and celebrate the love and kindness he brought to those around him. \nThe Celebration of Life will take place at 2 pm on Sunday\, November 16\, 2025\, at 116 Misty Lane\, Kerrville\, Texas 78028. \nAdditional details will be shared as they become available.
URL:https://thekerrvillelife.com/event/celebration-of-life-for-juan-bonilla-at-116-misty-lane/
LOCATION:116 Misty Lane\, Kerrville\, Texas 78028\, 116 Misty Lane\, Kerrville\, TX\, 78028\, United States
CATEGORIES:General
ATTACH;FMTTYPE=image/jpeg:https://thekerrvillelife.com/wp-content/uploads/2025/11/celebration-of-life-for-juan-bonilla-at-116-misty-lane.jpg
END:VEVENT
BEGIN:VEVENT
DTSTART;TZID=America/Chicago:20251116T153000
DTEND;TZID=America/Chicago:20251116T210000
DTSTAMP:20260425T064452
CREATED:20250821T123443Z
LAST-MODIFIED:20250821T123443Z
UID:78561-1763307000-1763326800@thekerrvillelife.com
SUMMARY:Best Pool Tournament in Town at Howdy’s Bar & Chill
DESCRIPTION:Howdy’s Bar & Chill in Kerrville hosts the Best Pool Tournament in Town twice a week\, welcoming players of all ages to compete in a fun and friendly setting. The tournament offers a lively atmosphere for seasoned players and casual competitors alike. \nGames are held every Sunday from 4:30 pm to 10 pm and every Tuesday from 7:30 pm to 10 pm at Howdy’s Bar & Chill\, 101 Rowland\, Kerrville\, Texas 78028. All ages are welcome to participate.
URL:https://thekerrvillelife.com/event/best-pool-tournament-in-town-at-howdys-bar-chill/2025-11-16/
LOCATION:Howdy’s Bar & Chill\, 101 Rowland\, Kerrville\, TX\, 78028\, United States
CATEGORIES:Sports
ATTACH;FMTTYPE=image/jpeg:https://thekerrvillelife.com/wp-content/uploads/2025/08/best-pool-tournament-in-town-at-howdys-bar-and-chill.jpg
END:VEVENT
END:VCALENDAR