BEGIN:VCALENDAR
VERSION:2.0
PRODID:-//The Kerrville Life - ECPv6.15.20//NONSGML v1.0//EN
CALSCALE:GREGORIAN
METHOD:PUBLISH
X-ORIGINAL-URL:https://thekerrvillelife.com
X-WR-CALDESC:Events for The Kerrville Life
REFRESH-INTERVAL;VALUE=DURATION:PT1H
X-Robots-Tag:noindex
X-PUBLISHED-TTL:PT1H
BEGIN:VTIMEZONE
TZID:America/Chicago
BEGIN:DAYLIGHT
TZOFFSETFROM:-0600
TZOFFSETTO:-0500
TZNAME:CDT
DTSTART:20240310T080000
END:DAYLIGHT
BEGIN:STANDARD
TZOFFSETFROM:-0500
TZOFFSETTO:-0600
TZNAME:CST
DTSTART:20241103T070000
END:STANDARD
BEGIN:DAYLIGHT
TZOFFSETFROM:-0600
TZOFFSETTO:-0500
TZNAME:CDT
DTSTART:20250309T080000
END:DAYLIGHT
BEGIN:STANDARD
TZOFFSETFROM:-0500
TZOFFSETTO:-0600
TZNAME:CST
DTSTART:20251102T070000
END:STANDARD
BEGIN:DAYLIGHT
TZOFFSETFROM:-0600
TZOFFSETTO:-0500
TZNAME:CDT
DTSTART:20260308T080000
END:DAYLIGHT
BEGIN:STANDARD
TZOFFSETFROM:-0500
TZOFFSETTO:-0600
TZNAME:CST
DTSTART:20261101T070000
END:STANDARD
END:VTIMEZONE
BEGIN:VEVENT
DTSTART;TZID=America/Chicago:20251111T100000
DTEND;TZID=America/Chicago:20251111T103000
DTSTAMP:20260425T064807
CREATED:20251030T115015Z
LAST-MODIFIED:20251030T115015Z
UID:79174-1762855200-1762857000@thekerrvillelife.com
SUMMARY:Ribbon Cutting for Grape & Grain in Kerrville
DESCRIPTION:The Kerrville Area Chamber of Commerce will host a ribbon cutting ceremony for Grape & Grain on Tuesday\, November 11\, 2025\, from 10 to 10:30 am. Community members and local businesses are invited to attend and help celebrate this exciting new addition to Kerrville’s business community. \nThe event will take place at 1225 Bandera Highway\, Kerrville\, Texas 78028. Attendance is free and open to the public. \nJoin the Chamber and local leaders in welcoming Grape & Grain with this special celebration marking its official opening.
URL:https://thekerrvillelife.com/event/ribbon-cutting-for-grape-grain-in-kerrville/
LOCATION:Grape & Grain Liquors\, 1225 Bandera Hwy\, Kerrville\, TX\, 78028\, United States
CATEGORIES:General
ATTACH;FMTTYPE=image/jpeg:https://thekerrvillelife.com/wp-content/uploads/2025/10/ribbon-cutting-for-grape-and-grain-in-kerrville.jpg
END:VEVENT
BEGIN:VEVENT
DTSTART;TZID=America/Chicago:20251111T100000
DTEND;TZID=America/Chicago:20251111T160000
DTSTAMP:20260425T064807
CREATED:20251009T072002Z
LAST-MODIFIED:20251009T072002Z
UID:79710-1762855200-1762876800@thekerrvillelife.com
SUMMARY:Annual Texas Furniture Makers’ Show at Kerr Arts & Cultural Center
DESCRIPTION:The 26th Annual Texas Furniture Makers’ Show® returns to the Kerr Arts & Cultural Center\, showcasing the exceptional craftsmanship of furniture artisans from across the state. This juried exhibition and competition highlights a wide variety of custom-made pieces\, including tables\, chairs\, dressers\, lighting fixtures\, and accessories—each designed with artistry\, function\, and fine detail. \nThe 2025 show runs from October 30 through December 12\, 2025\, with gallery hours Tuesday through Saturday from 10 am to 4 pm. Admission is free and open to the public. \nThe Kerr Arts & Cultural Center is located in downtown Kerrville\, Texas.
URL:https://thekerrvillelife.com/event/25th-annual-texas-furniture-makers-show-at-kerr-arts-cultural-center/2025-11-11/
LOCATION:Kerr Arts & Cultural Center\, 228 Earl Garrett Street\, Kerrville\, TX\, 78028\, United States
CATEGORIES:Arts & Culture
ATTACH;FMTTYPE=image/jpeg:https://thekerrvillelife.com/wp-content/uploads/2025/10/annual-texas-furniture-makers-show-at-kerr-arts-and-cultural-center.jpg
END:VEVENT
BEGIN:VEVENT
DTSTART;TZID=America/Chicago:20251111T120000
DTEND;TZID=America/Chicago:20251111T130000
DTSTAMP:20260425T064807
CREATED:20251030T115209Z
LAST-MODIFIED:20251030T115209Z
UID:79177-1762862400-1762866000@thekerrvillelife.com
SUMMARY:November PTO General Meeting at Tom Daniels Elementary
DESCRIPTION:Parents\, teachers\, and staff are invited to attend the November PTO General Meeting at Tom Daniels Elementary. This gathering offers a great opportunity to stay informed about upcoming events\, share ideas\, and get involved in projects that support the school and its students. \nThe meeting will be held at 12 pm on Tuesday\, November 11\, 2025\, at Tom Daniels Elementary\, part of Kerrville ISD. All parents and guardians are encouraged to attend and take part in strengthening the school community through collaboration and volunteer involvement.
URL:https://thekerrvillelife.com/event/november-pto-general-meeting-at-tom-daniels-elementary/
LOCATION:Tom Daniels Elementary School\, 2002 Singing Wind Drive North\, Kerrville\, TX\, 78028\, United States
CATEGORIES:Kids & Family
ATTACH;FMTTYPE=image/jpeg:https://thekerrvillelife.com/wp-content/uploads/2025/10/november-pto-general-meeting-at-tom-daniels-elementary.jpg
END:VEVENT
BEGIN:VEVENT
DTSTART;TZID=America/Chicago:20251111T163000
DTEND;TZID=America/Chicago:20251111T180000
DTSTAMP:20260425T064807
CREATED:20250926T031304Z
LAST-MODIFIED:20250926T031304Z
UID:79050-1762878600-1762884000@thekerrvillelife.com
SUMMARY:Boomers & Beyond at the Dietert Center
DESCRIPTION:The Boomers and Beyond Alliance (BBA) brings together business professionals who serve the aging community to share resources\, provide education\, and foster connections in the Kerrville area. This networking group focuses on improving quality of life for older adults and their families through education\, advocacy\, and community outreach. \nMeetings take place on the second Tuesday of each month\, with upcoming gatherings scheduled for October 14\, November 11\, and December 9\, 2025\, from 4:30 pm to 6 pm at the Dietert Center\, 451 Guadalupe Street #203\, Kerrville\, Texas 78028. \nThe BBA welcomes both Chamber and non-Chamber members who directly support the aging community in the Hill Country. These sessions provide a collaborative environment for sharing knowledge and strengthening the continuum of care for older adults.
URL:https://thekerrvillelife.com/event/boomers-beyond-at-the-dietert-center/2025-11-11/
LOCATION:Dietert Center\, 451 Guadalupe Street\, Suite 203\, Kerrville\, TX\, 78028\, United States
CATEGORIES:General
ATTACH;FMTTYPE=image/jpeg:https://thekerrvillelife.com/wp-content/uploads/2025/08/boomers-and-beyond-at-dietert-center.jpg
END:VEVENT
BEGIN:VEVENT
DTSTART;TZID=America/Chicago:20251111T183000
DTEND;TZID=America/Chicago:20251111T210000
DTSTAMP:20260425T064807
CREATED:20250821T123443Z
LAST-MODIFIED:20250821T123443Z
UID:78560-1762885800-1762894800@thekerrvillelife.com
SUMMARY:Best Pool Tournament in Town at Howdy’s Bar & Chill
DESCRIPTION:Howdy’s Bar & Chill in Kerrville hosts the Best Pool Tournament in Town twice a week\, welcoming players of all ages to compete in a fun and friendly setting. The tournament offers a lively atmosphere for seasoned players and casual competitors alike. \nGames are held every Sunday from 4:30 pm to 10 pm and every Tuesday from 7:30 pm to 10 pm at Howdy’s Bar & Chill\, 101 Rowland\, Kerrville\, Texas 78028. All ages are welcome to participate.
URL:https://thekerrvillelife.com/event/best-pool-tournament-in-town-at-howdys-bar-chill/2025-11-11/
LOCATION:Howdy’s Bar & Chill\, 101 Rowland\, Kerrville\, TX\, 78028\, United States
CATEGORIES:Sports
ATTACH;FMTTYPE=image/jpeg:https://thekerrvillelife.com/wp-content/uploads/2025/08/best-pool-tournament-in-town-at-howdys-bar-and-chill.jpg
END:VEVENT
END:VCALENDAR