BEGIN:VCALENDAR
VERSION:2.0
PRODID:-//The Kerrville Life - ECPv6.15.20//NONSGML v1.0//EN
CALSCALE:GREGORIAN
METHOD:PUBLISH
X-ORIGINAL-URL:https://thekerrvillelife.com
X-WR-CALDESC:Events for The Kerrville Life
REFRESH-INTERVAL;VALUE=DURATION:PT1H
X-Robots-Tag:noindex
X-PUBLISHED-TTL:PT1H
BEGIN:VTIMEZONE
TZID:America/Chicago
BEGIN:DAYLIGHT
TZOFFSETFROM:-0600
TZOFFSETTO:-0500
TZNAME:CDT
DTSTART:20240310T080000
END:DAYLIGHT
BEGIN:STANDARD
TZOFFSETFROM:-0500
TZOFFSETTO:-0600
TZNAME:CST
DTSTART:20241103T070000
END:STANDARD
BEGIN:DAYLIGHT
TZOFFSETFROM:-0600
TZOFFSETTO:-0500
TZNAME:CDT
DTSTART:20250309T080000
END:DAYLIGHT
BEGIN:STANDARD
TZOFFSETFROM:-0500
TZOFFSETTO:-0600
TZNAME:CST
DTSTART:20251102T070000
END:STANDARD
BEGIN:DAYLIGHT
TZOFFSETFROM:-0600
TZOFFSETTO:-0500
TZNAME:CDT
DTSTART:20260308T080000
END:DAYLIGHT
BEGIN:STANDARD
TZOFFSETFROM:-0500
TZOFFSETTO:-0600
TZNAME:CST
DTSTART:20261101T070000
END:STANDARD
END:VTIMEZONE
BEGIN:VEVENT
DTSTART;TZID=America/Chicago:20251102T150000
DTEND;TZID=America/Chicago:20251102T180000
DTSTAMP:20260425T112625
CREATED:20251030T095149Z
LAST-MODIFIED:20251030T095149Z
UID:79116-1762095600-1762106400@thekerrvillelife.com
SUMMARY:A Choral Experience: Mozart and Lauridsen at Cailloux Theater
DESCRIPTION:The Cailloux Theater will set the stage for an extraordinary afternoon of music during A Choral Experience: Mozart and Lauridsen\, a performance that blends classical brilliance with contemporary choral artistry. Audiences can expect a moving program that highlights the timeless beauty of Mozart’s compositions alongside the modern elegance of Morten Lauridsen’s works. \nThe concert takes place at 3 pm on Sunday\, November 2\, 2025\, at the Cailloux Theater\, 910 Main St.\, Kerrville\, Texas 78028. This thoughtfully curated performance offers an inspiring journey through harmony and emotion\, creating an unforgettable musical experience for all who attend. \nTickets and additional information are available through the Cailloux Theater box office.
URL:https://thekerrvillelife.com/event/a-choral-experience-mozart-and-lauridsen-at-cailloux-theater/
LOCATION:Cailloux Theater\, 910 Main Street\, Kerrville\, TX\, 78028\, United States
CATEGORIES:Music
ATTACH;FMTTYPE=image/jpeg:https://thekerrvillelife.com/wp-content/uploads/2025/10/a-choral-experience-mozart-and-lauridsen-at-cailloux-theater.jpg
END:VEVENT
BEGIN:VEVENT
DTSTART;TZID=America/Chicago:20251102T153000
DTEND;TZID=America/Chicago:20251102T210000
DTSTAMP:20260425T112625
CREATED:20250821T123443Z
LAST-MODIFIED:20250821T123443Z
UID:78557-1762097400-1762117200@thekerrvillelife.com
SUMMARY:Best Pool Tournament in Town at Howdy’s Bar & Chill
DESCRIPTION:Howdy’s Bar & Chill in Kerrville hosts the Best Pool Tournament in Town twice a week\, welcoming players of all ages to compete in a fun and friendly setting. The tournament offers a lively atmosphere for seasoned players and casual competitors alike. \nGames are held every Sunday from 4:30 pm to 10 pm and every Tuesday from 7:30 pm to 10 pm at Howdy’s Bar & Chill\, 101 Rowland\, Kerrville\, Texas 78028. All ages are welcome to participate.
URL:https://thekerrvillelife.com/event/best-pool-tournament-in-town-at-howdys-bar-chill/2025-11-02/
LOCATION:Howdy’s Bar & Chill\, 101 Rowland\, Kerrville\, TX\, 78028\, United States
CATEGORIES:Sports
ATTACH;FMTTYPE=image/jpeg:https://thekerrvillelife.com/wp-content/uploads/2025/08/best-pool-tournament-in-town-at-howdys-bar-and-chill.jpg
END:VEVENT
END:VCALENDAR