BEGIN:VCALENDAR
VERSION:2.0
PRODID:-//The Kerrville Life - ECPv6.15.20//NONSGML v1.0//EN
CALSCALE:GREGORIAN
METHOD:PUBLISH
X-ORIGINAL-URL:https://thekerrvillelife.com
X-WR-CALDESC:Events for The Kerrville Life
REFRESH-INTERVAL;VALUE=DURATION:PT1H
X-Robots-Tag:noindex
X-PUBLISHED-TTL:PT1H
BEGIN:VTIMEZONE
TZID:America/Chicago
BEGIN:DAYLIGHT
TZOFFSETFROM:-0600
TZOFFSETTO:-0500
TZNAME:CDT
DTSTART:20240310T080000
END:DAYLIGHT
BEGIN:STANDARD
TZOFFSETFROM:-0500
TZOFFSETTO:-0600
TZNAME:CST
DTSTART:20241103T070000
END:STANDARD
BEGIN:DAYLIGHT
TZOFFSETFROM:-0600
TZOFFSETTO:-0500
TZNAME:CDT
DTSTART:20250309T080000
END:DAYLIGHT
BEGIN:STANDARD
TZOFFSETFROM:-0500
TZOFFSETTO:-0600
TZNAME:CST
DTSTART:20251102T070000
END:STANDARD
BEGIN:DAYLIGHT
TZOFFSETFROM:-0600
TZOFFSETTO:-0500
TZNAME:CDT
DTSTART:20260308T080000
END:DAYLIGHT
BEGIN:STANDARD
TZOFFSETFROM:-0500
TZOFFSETTO:-0600
TZNAME:CST
DTSTART:20261101T070000
END:STANDARD
END:VTIMEZONE
BEGIN:VEVENT
DTSTART;TZID=America/Chicago:20251019T090000
DTEND;TZID=America/Chicago:20251019T150000
DTSTAMP:20260425T080550
CREATED:20250822T100015Z
LAST-MODIFIED:20250822T100015Z
UID:78757-1760864400-1760886000@thekerrvillelife.com
SUMMARY:Texas Gun & Knife Association Show – Kerrville
DESCRIPTION:The Texas Gun & Knife Association brings its traveling show to Kerrville at the Happy State Bank Expo Hall\, offering attendees the chance to explore a wide variety of firearms\, knives\, outdoor gear\, and collectibles. Vendors and dealers will showcase merchandise\, with opportunities for enthusiasts to buy\, sell\, and trade in a safe and organized setting. \nUpcoming Kerrville show dates for 2025 include: \n\nFebruary 22–23\nApril 26–27\nJuly 12–13\nSeptember 13–14\nNovember 8–9\nDecember 20–21\n\nShow hours are Saturdays from 9 am to 5 pm and Sundays from 10 am to 4 pm at the Happy State Bank Expo Hall\, 3785 Highway 27\, Kerrville\, Texas 78028. Dealer setup is available from 2 pm to 8 pm the day prior. \nFor more information or to RSVP\, contact Janice Hill at (830) 285-0575 or visit www.texasgunandknifeshows.com.
URL:https://thekerrvillelife.com/event/texas-gun-knife-association-show-kerrville-2/2025-10-19/
LOCATION:Abilene Convention Center\, 1100 N 6th St\, Abilene\, TX\, 79601\, United States
CATEGORIES:General
ATTACH;FMTTYPE=image/jpeg:https://thekerrvillelife.com/wp-content/uploads/2025/08/texas-gun-and-knife-association-show-kerrville.jpg
END:VEVENT
BEGIN:VEVENT
DTSTART;TZID=America/Chicago:20251019T110000
DTEND;TZID=America/Chicago:20251019T170000
DTSTAMP:20260425T080550
CREATED:20250911T000454Z
LAST-MODIFIED:20250911T000454Z
UID:79069-1760871600-1760893200@thekerrvillelife.com
SUMMARY:Turtle Creek Vineyard Market Days at Turtle Creek Vineyard
DESCRIPTION:Turtle Creek Vineyard invites guests to enjoy a relaxing Hill Country afternoon at Market Days\, a free\, family-friendly event celebrating local artisans\, music\, and food. Visitors can browse a variety of vendor booths featuring handmade goods\, crafts\, and unique finds while savoring delicious bites and live music against the beautiful backdrop of the vineyard. \nThe 2025 Market Days will be held on Sundays\, September 21\, October 19\, and November 16\, from 12 pm to 6 pm. The 2026 dates include March 15\, April 19\, and May 17. \nTurtle Creek Vineyard is located at 183 Fall Creek Road\, Kerrville\, Texas 78028. Admission is free\, and all are welcome. For more information\, contact the Kerrville Area Chamber of Commerce or visit the vineyard’s website.
URL:https://thekerrvillelife.com/event/turtle-creek-vineyard-market-days-at-turtle-creek-vineyard/2025-10-19/
LOCATION:Turtle Creek Vineyard\, 183 Fall Creek Road\, Kerrville\, TX\, 78028\, United States
CATEGORIES:Kids & Family
ATTACH;FMTTYPE=image/jpeg:https://thekerrvillelife.com/wp-content/uploads/2025/09/turtle-creek-vineyard-market-days-at-turtle-creek-vineyard.jpg
END:VEVENT
BEGIN:VEVENT
DTSTART;TZID=America/Chicago:20251019T140000
DTEND;TZID=America/Chicago:20251019T160000
DTSTAMP:20260425T080550
CREATED:20250822T081339Z
LAST-MODIFIED:20250822T081339Z
UID:78700-1760882400-1760889600@thekerrvillelife.com
SUMMARY:9U\, 10U\, & 11U Open Practice at Kerrville Little League Fields
DESCRIPTION:Mudcats Select Baseball invites players to upcoming open practice sessions for the 9U\, 10U\, and 11U teams. These practices give young athletes the chance to develop their skills\, meet coaches\, and prepare for the upcoming 2026 spring season. \nThe first session takes place on Sunday\, September 7\, 2025\, from 3 pm to 5 pm at the Kerrville Little League baseball fields\, Kerrville\, Texas. Additional open practices will be held for 9U and 10U on September 14 and September 21\, and for 11U on September 21. \nTryouts for the 2026 spring season will be held on October 5\, 2025\, for 9U and 10U\, and on October 19\, 2025\, for 11U\, each from 3 pm to 5 pm. \nPlayers are asked to register in advance to ensure an accurate headcount at: Registration Form.
URL:https://thekerrvillelife.com/event/9u-10u-11u-open-practice-at-kerrville-little-league-fields/2025-10-19/
LOCATION:Kerrville Little League Fields\, 3720 Highway 27\, Kerrville\, TX\, 78028\, United States
CATEGORIES:Sports
ATTACH;FMTTYPE=image/jpeg:https://thekerrvillelife.com/wp-content/uploads/2025/08/9u-10u-and-11u-open-practice-at-kerrville-little-league-fields.jpg
END:VEVENT
BEGIN:VEVENT
DTSTART;TZID=America/Chicago:20251019T143000
DTEND;TZID=America/Chicago:20251019T173000
DTSTAMP:20260425T080550
CREATED:20250926T004315Z
LAST-MODIFIED:20250926T004315Z
UID:79031-1760884200-1760895000@thekerrvillelife.com
SUMMARY:The Mousetrap at VK Garage Theater
DESCRIPTION:Playhouse 2000 presents Agatha Christie’s legendary mystery The Mousetrap from October 10 to 26\, 2025\, at the VK Garage Theater\, 305 Washington St.\, Kerrville\, TX 78028. Performances run Fridays and Saturdays\, October 10–18 and 24–25 at 7:30 pm\, with Sunday matinees on October 19 and 26 at 2:30 pm. \nKnown as the world’s longest-running play\, The Mousetrap is a masterfully crafted murder mystery with a chilling twist ending. Originally adapted from a radio play written as a birthday gift to Queen Mary in 1947\, it has captivated audiences for decades and is nearing its 30\,000th performance in London. \nTickets are available exclusively through the official Cailloux Box Office. Please avoid third-party resellers to ensure fair pricing and authenticity.
URL:https://thekerrvillelife.com/event/the-mousetrap-at-vk-garage-theater/2025-10-19/
LOCATION:VK Garage Theater\, 305 Washington St.\, Kerrville\, TX\, 78028\, United States
CATEGORIES:Kids & Family
ATTACH;FMTTYPE=image/jpeg:https://thekerrvillelife.com/wp-content/uploads/2025/09/the-mousetrap-at-vk-garage-theater.jpg
END:VEVENT
BEGIN:VEVENT
DTSTART;TZID=America/Chicago:20251019T153000
DTEND;TZID=America/Chicago:20251019T210000
DTSTAMP:20260425T080550
CREATED:20250821T123443Z
LAST-MODIFIED:20250821T123443Z
UID:78553-1760887800-1760907600@thekerrvillelife.com
SUMMARY:Best Pool Tournament in Town at Howdy’s Bar & Chill
DESCRIPTION:Howdy’s Bar & Chill in Kerrville hosts the Best Pool Tournament in Town twice a week\, welcoming players of all ages to compete in a fun and friendly setting. The tournament offers a lively atmosphere for seasoned players and casual competitors alike. \nGames are held every Sunday from 4:30 pm to 10 pm and every Tuesday from 7:30 pm to 10 pm at Howdy’s Bar & Chill\, 101 Rowland\, Kerrville\, Texas 78028. All ages are welcome to participate.
URL:https://thekerrvillelife.com/event/best-pool-tournament-in-town-at-howdys-bar-chill/2025-10-19/
LOCATION:Howdy’s Bar & Chill\, 101 Rowland\, Kerrville\, TX\, 78028\, United States
CATEGORIES:Sports
ATTACH;FMTTYPE=image/jpeg:https://thekerrvillelife.com/wp-content/uploads/2025/08/best-pool-tournament-in-town-at-howdys-bar-and-chill.jpg
END:VEVENT
END:VCALENDAR