BEGIN:VCALENDAR
VERSION:2.0
PRODID:-//The Kerrville Life - ECPv6.15.20//NONSGML v1.0//EN
CALSCALE:GREGORIAN
METHOD:PUBLISH
X-WR-CALNAME:The Kerrville Life
X-ORIGINAL-URL:https://thekerrvillelife.com
X-WR-CALDESC:Events for The Kerrville Life
REFRESH-INTERVAL;VALUE=DURATION:PT1H
X-Robots-Tag:noindex
X-PUBLISHED-TTL:PT1H
BEGIN:VTIMEZONE
TZID:America/Chicago
BEGIN:DAYLIGHT
TZOFFSETFROM:-0600
TZOFFSETTO:-0500
TZNAME:CDT
DTSTART:20240310T080000
END:DAYLIGHT
BEGIN:STANDARD
TZOFFSETFROM:-0500
TZOFFSETTO:-0600
TZNAME:CST
DTSTART:20241103T070000
END:STANDARD
BEGIN:DAYLIGHT
TZOFFSETFROM:-0600
TZOFFSETTO:-0500
TZNAME:CDT
DTSTART:20250309T080000
END:DAYLIGHT
BEGIN:STANDARD
TZOFFSETFROM:-0500
TZOFFSETTO:-0600
TZNAME:CST
DTSTART:20251102T070000
END:STANDARD
BEGIN:DAYLIGHT
TZOFFSETFROM:-0600
TZOFFSETTO:-0500
TZNAME:CDT
DTSTART:20260308T080000
END:DAYLIGHT
BEGIN:STANDARD
TZOFFSETFROM:-0500
TZOFFSETTO:-0600
TZNAME:CST
DTSTART:20261101T070000
END:STANDARD
END:VTIMEZONE
BEGIN:VEVENT
DTSTART;VALUE=DATE:20250922
DTEND;VALUE=DATE:20251019
DTSTAMP:20260425T200943
CREATED:20250911T002335Z
LAST-MODIFIED:20250911T002335Z
UID:78914-1758582000-1760828399@thekerrvillelife.com
SUMMARY:KACC Art Exhibits at Kerr Arts and Cultural Center
DESCRIPTION:The Kerr Arts and Cultural Center in Kerrville opens three new exhibits this fall\, showcasing a diverse range of artistic styles and mediums. Guests can view assemblage art\, paintings\, and more by Douglas and Phyllis Garey\, works by Hardy Lewis\, and acrylic artwork by Tony Schaub. \nThe exhibits run from September 23 through October 18\, 2025\, at the Kerr Arts and Cultural Center\, 228 Earl Garrett Street\, Kerrville\, Texas. \nFor more information\, call (830) 895-2911 or visit kacckerrville.com. The venue is fully accessible for individuals with disabilities.
URL:https://thekerrvillelife.com/event/kacc-art-exhibits-at-kerr-arts-and-cultural-center/
LOCATION:Kerr Arts & Cultural Center\, 228 Earl Garrett Street\, Kerrville\, TX\, 78028\, United States
CATEGORIES:Arts & Culture
ATTACH;FMTTYPE=image/jpeg:https://thekerrvillelife.com/wp-content/uploads/2025/09/kacc-art-exhibits-at-kerr-arts-and-cultural-center.jpg
END:VEVENT
BEGIN:VEVENT
DTSTART;VALUE=DATE:20251005
DTEND;VALUE=DATE:20251006
DTSTAMP:20260425T200943
CREATED:20250925T231303Z
LAST-MODIFIED:20250925T231322Z
UID:78999-1759622400-1759708799@thekerrvillelife.com
SUMMARY:19th Annual Hill Country Golf Classic at the Riverhill Country Club
DESCRIPTION:The Hill Country Golf Classic returns for its 19th year with a weekend of golf across three beautiful Hill Country courses: Riverhill Country Club\, Comanche Trace\, and Schreiner University Golf Course. The tournament will take place Friday\, October 3 through Sunday\, October 5\, 2025\, and includes daily lunch and a tee gift for each player. \nA special players reception will be held on Thursday\, October 2 at Arcadia Live in Kerrville\, featuring food\, drinks\, a silent and live auction\, and player pool sign-ups. \nRegistration is required\, and spaces are limited. \nThe tournament will be played at Riverhill Country Club\, Comanche Trace\, and Schreiner University Golf Course. For details or to register\, visit the event page or contact the organizers for availability.
URL:https://thekerrvillelife.com/event/19th-annual-hill-country-golf-classic-at-the-riverhill-country-club/2025-10-05/
LOCATION:Riverhill Country Club\, 100 Riverhill Club Ln E\, Kerrville\, TX\, 78028\, United States
CATEGORIES:Sports
ATTACH;FMTTYPE=image/jpeg:https://thekerrvillelife.com/wp-content/uploads/2025/09/19th-annual-hill-country-golf-classic-at-the-riverhill-country-club.jpg
END:VEVENT
BEGIN:VEVENT
DTSTART;TZID=America/Chicago:20251005T110000
DTEND;TZID=America/Chicago:20251005T180000
DTSTAMP:20260425T200943
CREATED:20250925T233703Z
LAST-MODIFIED:20250925T233703Z
UID:79009-1759662000-1759687200@thekerrvillelife.com
SUMMARY:Notre Dame Catholic School Fall Festival
DESCRIPTION:The Notre Dame Catholic School Fall Festival will take place Saturday\, October 4\, 2025\, from 3 pm to 10 pm and continue Sunday\, October 5\, 2025\, from 11 am to 6 pm at Notre Dame Catholic School\, 907 Main Street\, Kerrville\, TX 78028. This beloved annual tradition brings together families\, parishioners\, and the greater Kerrville community for two days of fun\, fellowship\, and celebration. \nGuests can enjoy a wide variety of activities\, including game and prize booths\, children’s attractions\, bingo\, musical performances\, and delicious food booths. The festival also features a bake sale\, cake wheel\, and both silent and live auctions. Spiritual offerings\, including additional Masses and Eucharistic Adoration\, are planned throughout the weekend to enrich the event’s community spirit. \nAs the school’s largest fundraiser of the year\, the Fall Festival thrives on the generosity and service of parents\, students\, staff\, and parishioners. Proceeds help support the mission and programs of Notre Dame Catholic School. \nFor more information or to contribute by volunteering or donating auction items\, contact Notre Dame Catholic School at 907 Main Street\, Kerrville\, TX 78028.
URL:https://thekerrvillelife.com/event/notre-dame-catholic-school-fall-festival/2025-10-05/
LOCATION:Notre Dame Catholic School\, 907 Main Street\, Kerrville\, TX\, 78028\, United States
CATEGORIES:Kids & Family
ATTACH;FMTTYPE=image/jpeg:https://thekerrvillelife.com/wp-content/uploads/2025/09/notre-dame-catholic-school-fall-festival.jpg
END:VEVENT
BEGIN:VEVENT
DTSTART;TZID=America/Chicago:20251005T140000
DTEND;TZID=America/Chicago:20251005T160000
DTSTAMP:20260425T200943
CREATED:20250822T081339Z
LAST-MODIFIED:20250822T081339Z
UID:78699-1759672800-1759680000@thekerrvillelife.com
SUMMARY:9U\, 10U\, & 11U Open Practice at Kerrville Little League Fields
DESCRIPTION:Mudcats Select Baseball invites players to upcoming open practice sessions for the 9U\, 10U\, and 11U teams. These practices give young athletes the chance to develop their skills\, meet coaches\, and prepare for the upcoming 2026 spring season. \nThe first session takes place on Sunday\, September 7\, 2025\, from 3 pm to 5 pm at the Kerrville Little League baseball fields\, Kerrville\, Texas. Additional open practices will be held for 9U and 10U on September 14 and September 21\, and for 11U on September 21. \nTryouts for the 2026 spring season will be held on October 5\, 2025\, for 9U and 10U\, and on October 19\, 2025\, for 11U\, each from 3 pm to 5 pm. \nPlayers are asked to register in advance to ensure an accurate headcount at: Registration Form.
URL:https://thekerrvillelife.com/event/9u-10u-11u-open-practice-at-kerrville-little-league-fields/2025-10-05/
LOCATION:Kerrville Little League Fields\, 3720 Highway 27\, Kerrville\, TX\, 78028\, United States
CATEGORIES:Sports
ATTACH;FMTTYPE=image/jpeg:https://thekerrvillelife.com/wp-content/uploads/2025/08/9u-10u-and-11u-open-practice-at-kerrville-little-league-fields.jpg
END:VEVENT
BEGIN:VEVENT
DTSTART;TZID=America/Chicago:20251005T150000
DTEND;TZID=America/Chicago:20251005T170000
DTSTAMP:20260425T200943
CREATED:20250925T234153Z
LAST-MODIFIED:20250925T234153Z
UID:79010-1759676400-1759683600@thekerrvillelife.com
SUMMARY:9U & 10U Tryouts for Spring 2026 Select Season at Kerrville Little League
DESCRIPTION:Mudcats Select Baseball will host tryouts for its 9U and 10U teams for the Spring 2026 season on Sunday\, October 5\, 2025\, from 3 pm to 5 pm. The tryouts will be held at the Kerrville Little League baseball fields\, 3720 Highway 27\, Kerrville\, TX 78028. \nPlayers interested in joining the Mudcats program are encouraged to register in advance to ensure an accurate headcount. Registration can be completed online at: https://docs.google.com/forms/d/e/1FAIpQLScsJpbnb6pjZrq8rkLNQRFjDpr0_WuZDg5kQcO7JZ565TIKLg/viewform?usp=header. \nThis is an opportunity for young athletes to showcase their skills and compete for a spot on a competitive select baseball team in the Texas Hill Country.
URL:https://thekerrvillelife.com/event/9u-10u-tryouts-for-spring-2026-select-season-at-kerrville-little-league/
LOCATION:Kerrville Little League Fields\, 3720 Highway 27\, Kerrville\, TX\, 78028\, United States
CATEGORIES:Kids & Family,Sports
ATTACH;FMTTYPE=image/jpeg:https://thekerrvillelife.com/wp-content/uploads/2025/09/9u-and-10u-tryouts-for-spring-2026-select-season-at-kerrville-little-league.jpg
END:VEVENT
BEGIN:VEVENT
DTSTART;TZID=America/Chicago:20251005T153000
DTEND;TZID=America/Chicago:20251005T210000
DTSTAMP:20260425T200943
CREATED:20250821T123443Z
LAST-MODIFIED:20250821T123443Z
UID:78549-1759678200-1759698000@thekerrvillelife.com
SUMMARY:Best Pool Tournament in Town at Howdy’s Bar & Chill
DESCRIPTION:Howdy’s Bar & Chill in Kerrville hosts the Best Pool Tournament in Town twice a week\, welcoming players of all ages to compete in a fun and friendly setting. The tournament offers a lively atmosphere for seasoned players and casual competitors alike. \nGames are held every Sunday from 4:30 pm to 10 pm and every Tuesday from 7:30 pm to 10 pm at Howdy’s Bar & Chill\, 101 Rowland\, Kerrville\, Texas 78028. All ages are welcome to participate.
URL:https://thekerrvillelife.com/event/best-pool-tournament-in-town-at-howdys-bar-chill/2025-10-05/
LOCATION:Howdy’s Bar & Chill\, 101 Rowland\, Kerrville\, TX\, 78028\, United States
CATEGORIES:Sports
ATTACH;FMTTYPE=image/jpeg:https://thekerrvillelife.com/wp-content/uploads/2025/08/best-pool-tournament-in-town-at-howdys-bar-and-chill.jpg
END:VEVENT
END:VCALENDAR