BEGIN:VCALENDAR
VERSION:2.0
PRODID:-//The Kerrville Life - ECPv6.15.20//NONSGML v1.0//EN
CALSCALE:GREGORIAN
METHOD:PUBLISH
X-WR-CALNAME:The Kerrville Life
X-ORIGINAL-URL:https://thekerrvillelife.com
X-WR-CALDESC:Events for The Kerrville Life
REFRESH-INTERVAL;VALUE=DURATION:PT1H
X-Robots-Tag:noindex
X-PUBLISHED-TTL:PT1H
BEGIN:VTIMEZONE
TZID:America/Chicago
BEGIN:DAYLIGHT
TZOFFSETFROM:-0600
TZOFFSETTO:-0500
TZNAME:CDT
DTSTART:20240310T080000
END:DAYLIGHT
BEGIN:STANDARD
TZOFFSETFROM:-0500
TZOFFSETTO:-0600
TZNAME:CST
DTSTART:20241103T070000
END:STANDARD
BEGIN:DAYLIGHT
TZOFFSETFROM:-0600
TZOFFSETTO:-0500
TZNAME:CDT
DTSTART:20250309T080000
END:DAYLIGHT
BEGIN:STANDARD
TZOFFSETFROM:-0500
TZOFFSETTO:-0600
TZNAME:CST
DTSTART:20251102T070000
END:STANDARD
BEGIN:DAYLIGHT
TZOFFSETFROM:-0600
TZOFFSETTO:-0500
TZNAME:CDT
DTSTART:20260308T080000
END:DAYLIGHT
BEGIN:STANDARD
TZOFFSETFROM:-0500
TZOFFSETTO:-0600
TZNAME:CST
DTSTART:20261101T070000
END:STANDARD
END:VTIMEZONE
BEGIN:VEVENT
DTSTART;TZID=America/Chicago:20250912T110000
DTEND;TZID=America/Chicago:20250912T170000
DTSTAMP:20260425T093611
CREATED:20250822T092652Z
LAST-MODIFIED:20250822T092652Z
UID:78732-1757674800-1757696400@thekerrvillelife.com
SUMMARY:Arts & Crafts Show at Trinity Baptist Church
DESCRIPTION:Trinity Baptist Church in Kerrville hosts its annual Arts & Crafts Show\, featuring vendors from across Texas. Guests can browse a wide variety of art and handcrafted pieces\, from unique home décor to creative gifts\, all made by talented artisans. \nThe event takes place on Friday\, September 12\, 2025\, from 12 pm to 6 pm at Trinity Baptist Church\, 800 Jackson Road\, Kerrville\, Texas 78028. For more information\, call the church office at (830) 895-0100 or email sowens@tbck.org.
URL:https://thekerrvillelife.com/event/arts-crafts-show-at-trinity-baptist-church/
LOCATION:Trinity Baptist Church\, 800 Jackson Road\, Kerrville\, TX\, 78028\, United States
CATEGORIES:Arts & Culture
ATTACH;FMTTYPE=image/jpeg:https://thekerrvillelife.com/wp-content/uploads/2025/08/arts-and-crafts-show-at-trinity-baptist-church.jpg
END:VEVENT
BEGIN:VEVENT
DTSTART;TZID=America/Chicago:20250912T110000
DTEND;TZID=America/Chicago:20250912T170000
DTSTAMP:20260425T093611
CREATED:20250822T093046Z
LAST-MODIFIED:20250822T093046Z
UID:78735-1757674800-1757696400@thekerrvillelife.com
SUMMARY:Trinity Baptist Church Fall Gift Market
DESCRIPTION:Trinity Baptist Church in Kerrville hosts the Fall Gift Market\, a two-day event featuring handmade goods and unique creations from local vendors. Shoppers can explore a variety of gifts\, crafts\, and seasonal items perfect for the fall. \nThe market will be held on Friday\, September 12\, 2025\, from 12 pm to 6 pm and Saturday\, September 13\, 2025\, from 9 am to 4 pm at Trinity Baptist Church\, 800 Jackson Road\, Kerrville\, Texas 78028.
URL:https://thekerrvillelife.com/event/trinity-baptist-church-fall-gift-market/2025-09-12/
LOCATION:Trinity Baptist Church\, 800 Jackson Road\, Kerrville\, TX\, 78028\, United States
CATEGORIES:Arts & Culture
ATTACH;FMTTYPE=image/jpeg:https://thekerrvillelife.com/wp-content/uploads/2025/08/trinity-baptist-church-fall-gift-market.jpg
END:VEVENT
BEGIN:VEVENT
DTSTART;TZID=America/Chicago:20250912T120000
DTEND;TZID=America/Chicago:20250912T150000
DTSTAMP:20260425T093611
CREATED:20250822T093621Z
LAST-MODIFIED:20250822T093621Z
UID:78738-1757678400-1757689200@thekerrvillelife.com
SUMMARY:Fairytale Forest Weekend at Yogi Bear’s Jellystone Park Guadalupe River
DESCRIPTION:Yogi Bear’s Jellystone Park Camp-Resort in Kerrville invites families to experience Fairytale Forest Weekend\, a magical celebration filled with themed activities and entertainment. Guests can dress as their favorite fairytale characters for the Once Upon a Costume Contest\, take part in Fairytale Fun and Games\, and enjoy special entertainment designed for kids and families. \nThe event runs from Friday\, September 12\, 2025\, at 1 pm through Sunday\, September 14\, 2025\, at 4 pm at Yogi Bear’s Jellystone Park Camp-Resort: Guadalupe River\, 2605 Junction Highway\, Kerrville\, Texas 78028.
URL:https://thekerrvillelife.com/event/fairytale-forest-weekend-at-yogi-bears-jellystone-park-guadalupe-river/2025-09-12/
LOCATION:Yogi Bear’s Jellystone Park Guadalupe River\, 2605 Junction Highway\, Kerrville\, TX\, 78028\, United States
CATEGORIES:Kids & Family
ATTACH;FMTTYPE=image/jpeg:https://thekerrvillelife.com/wp-content/uploads/2025/08/fairytale-forest-weekend-at-yogi-bears-jellystone-park-guadalupe-river.jpg
END:VEVENT
BEGIN:VEVENT
DTSTART;TZID=America/Chicago:20250912T160000
DTEND;TZID=America/Chicago:20250912T190000
DTSTAMP:20260425T093611
CREATED:20250821T130709Z
LAST-MODIFIED:20250821T130709Z
UID:78937-1757692800-1757703600@thekerrvillelife.com
SUMMARY:After Hours at Turtle Creek Vineyard
DESCRIPTION:Turtle Creek Vineyard in Kerrville hosts After Hours\, a relaxed evening music series set against a picturesque Hill Country backdrop. From 5 pm to 8 pm\, guests can unwind with live performances by local artists. Upcoming dates include Friday\, August 15 with Matthew James Butler\, Friday\, August 29 with Bill Mahkovtz\, Friday\, September 12 with Walker Hicks\, Friday\, September 26 with Lee Winright\, Friday\, October 10 with In Six Days\, and Friday\, October 24 with Steve Garry. \nAdmission is free. The series takes place from 5 pm to 8 pm at Turtle Creek Vineyard\, 183 Fall Creek Road\, Kerrville\, Texas 78028. For details and updates\, visit http://www.turtlecreekvineyard.com or contact Justine Thompson.
URL:https://thekerrvillelife.com/event/after-hours-with-bill-mahkovtz-at-turtle-creek-vineyard/2025-09-12/
LOCATION:Turtle Creek Vineyard\, 183 Fall Creek Road\, Kerrville\, TX\, 78028\, United States
CATEGORIES:Music
ATTACH;FMTTYPE=image/jpeg:https://thekerrvillelife.com/wp-content/uploads/2025/08/after-hours-at-turtle-creek-vineyard-with-bill-mahkovtz.jpg
END:VEVENT
BEGIN:VEVENT
DTSTART;TZID=America/Chicago:20250912T180000
DTEND;TZID=America/Chicago:20250912T220000
DTSTAMP:20260425T093611
CREATED:20250821T101759Z
LAST-MODIFIED:20250821T101759Z
UID:78945-1757700000-1757714400@thekerrvillelife.com
SUMMARY:Karaoke Friday at Gravity Check Saloon and Arena
DESCRIPTION:Gravity Check Saloon and Arena in Kerrville hosts Karaoke Friday every week\, offering a fun evening of music\, food\, and drinks. Guests can enjoy a tasty dinner\, sip refreshing beverages\, and take the stage to sing their favorite tunes in a lively\, welcoming atmosphere. \nThe series runs every Friday through September 26\, 2025\, from 7 pm to 11 pm at Gravity Check Saloon and Arena\, 3979 Bandera Highway (173)\, Kerrville\, Texas 78028. Everyone is welcome to join the fun and make it a Friday night to remember.
URL:https://thekerrvillelife.com/event/karaoke-friday-at-gravity-check-saloon-and-arena/2025-09-12/
LOCATION:Gravity Check Saloon and Arena\, 3979 Bandera Highway (173)\, Kerrville\, TX\, 78028\, United States
CATEGORIES:Music
ATTACH;FMTTYPE=image/jpeg:https://thekerrvillelife.com/wp-content/uploads/2025/09/karaoke-friday-at-gravity-check-saloon-and-arena.jpg
END:VEVENT
BEGIN:VEVENT
DTSTART;TZID=America/Chicago:20250912T180000
DTEND;TZID=America/Chicago:20250914T100000
DTSTAMP:20260425T093611
CREATED:20250822T094540Z
LAST-MODIFIED:20250822T094540Z
UID:78744-1757700000-1757844000@thekerrvillelife.com
SUMMARY:OA Fall Induction Weekend at Bear Creek Scout Camp
DESCRIPTION:Aina Topa Hutsi Lodge #60 hosts the OA Fall Induction Weekend at Bear Creek Scout Camp in Kerrville\, offering candidates the opportunity to become ordeal members and for current members to deepen their commitment to the Order of the Arrow. The induction experience emphasizes self-reliance\, meditation\, hard work\, and a cheerful spirit through meaningful challenges\, camp improvement projects\, and reflective activities. \nThe event runs from Friday\, September 12\, 2025\, at 7 pm through Sunday\, September 14\, 2025\, at 11 am at Bear Creek Scout Camp\, Kerrville\, Texas. OA candidates and Arrowmen are encouraged to participate and support this important event.
URL:https://thekerrvillelife.com/event/oa-fall-induction-weekend-at-bear-creek-scout-camp/
LOCATION:Bear Creek Scout Camp\, 125 Bear Creek Scout Rd\, Kerrville\, TX\, 78028\, United States
CATEGORIES:General
END:VEVENT
END:VCALENDAR