BEGIN:VCALENDAR
VERSION:2.0
PRODID:-//The Kerrville Life - ECPv6.15.20//NONSGML v1.0//EN
CALSCALE:GREGORIAN
METHOD:PUBLISH
X-WR-CALNAME:The Kerrville Life
X-ORIGINAL-URL:https://thekerrvillelife.com
X-WR-CALDESC:Events for The Kerrville Life
REFRESH-INTERVAL;VALUE=DURATION:PT1H
X-Robots-Tag:noindex
X-PUBLISHED-TTL:PT1H
BEGIN:VTIMEZONE
TZID:America/Chicago
BEGIN:DAYLIGHT
TZOFFSETFROM:-0600
TZOFFSETTO:-0500
TZNAME:CDT
DTSTART:20240310T080000
END:DAYLIGHT
BEGIN:STANDARD
TZOFFSETFROM:-0500
TZOFFSETTO:-0600
TZNAME:CST
DTSTART:20241103T070000
END:STANDARD
BEGIN:DAYLIGHT
TZOFFSETFROM:-0600
TZOFFSETTO:-0500
TZNAME:CDT
DTSTART:20250309T080000
END:DAYLIGHT
BEGIN:STANDARD
TZOFFSETFROM:-0500
TZOFFSETTO:-0600
TZNAME:CST
DTSTART:20251102T070000
END:STANDARD
BEGIN:DAYLIGHT
TZOFFSETFROM:-0600
TZOFFSETTO:-0500
TZNAME:CDT
DTSTART:20260308T080000
END:DAYLIGHT
BEGIN:STANDARD
TZOFFSETFROM:-0500
TZOFFSETTO:-0600
TZNAME:CST
DTSTART:20261101T070000
END:STANDARD
END:VTIMEZONE
BEGIN:VEVENT
DTSTART;TZID=America/Chicago:20250907T130000
DTEND;TZID=America/Chicago:20250907T150000
DTSTAMP:20260425T110653
CREATED:20250822T080848Z
LAST-MODIFIED:20250822T080848Z
UID:78692-1757250000-1757257200@thekerrvillelife.com
SUMMARY:Falling in Love with Fall: Sip and Paint at Blue Oak Trading Company
DESCRIPTION:Blue Oak Trading Company in Kerrville hosts Falling in Love with Fall\, a cozy Sunday afternoon sip and paint session. Guests will create a beautiful autumn-themed painting while enjoying a beverage and light snacks in a relaxed\, creative atmosphere. \nThe event takes place on Sunday\, September 7\, 2025\, from 2 pm to 4 pm at Blue Oak Trading Company\, 1834 Junction Highway\, Kerrville\, Texas 78028. Admission is $40 per person\, which includes all materials\, instruction\, one beverage of choice\, and snacks. \nSpots are limited to 20 participants and must be reserved in advance. To sign up\, pay in cash at Blue Oak Trading Company or call (830) 455-2268. Cash App payments can also be made to $Passionate4health2. The last day to register is Friday\, September 5\, 2025.
URL:https://thekerrvillelife.com/event/falling-in-love-with-fall-sip-and-paint-at-blue-oak-trading-company/
LOCATION:Blue Oak Trading Company\, 1834 Junction Highway\, Kerrville\, TX\, 78028\, United States
CATEGORIES:Arts & Culture
ATTACH;FMTTYPE=image/jpeg:https://thekerrvillelife.com/wp-content/uploads/2025/08/falling-in-love-with-fall-sip-and-paint-at-blue-oak-trading-company.jpg
END:VEVENT
BEGIN:VEVENT
DTSTART;TZID=America/Chicago:20250907T133000
DTEND;TZID=America/Chicago:20250907T160000
DTSTAMP:20260425T110653
CREATED:20250821T102157Z
LAST-MODIFIED:20250821T102157Z
UID:78492-1757251800-1757260800@thekerrvillelife.com
SUMMARY:Into the Woods at Cailloux Theater
DESCRIPTION:Playhouse 2000 brings the acclaimed musical Into the Woods to the Cailloux Theater in Kerrville for a limited run\, celebrating the theater’s reopening after major renovations. Stephen Sondheim and James Lapine’s beloved production blends classic fairy tales like Cinderella\, Jack and the Beanstalk\, Rapunzel\, and Little Red Riding Hood into a whimsical story that explores both the magic of “happily ever after” and the challenges that follow. \nPerformances run August 22 through September 7\, 2025\, with shows on Fridays and Saturdays at 7:30 pm and Sunday matinees on August 31 and September 7 at 2:30 pm. The opening night performance will take place on Friday\, August 22\, 2025\, from 7:30 pm to 10 pm at Cailloux Theater\, 910 Main Street\, Kerrville\, Texas 78028.
URL:https://thekerrvillelife.com/event/into-the-woods-at-cailloux-theater/2025-09-07/
LOCATION:Cailloux Theater\, 910 Main Street\, Kerrville\, TX\, 78028\, United States
CATEGORIES:Kids & Family
ATTACH;FMTTYPE=image/jpeg:https://thekerrvillelife.com/wp-content/uploads/2025/08/into-the-woods-at-cailloux-theater.jpg
END:VEVENT
BEGIN:VEVENT
DTSTART;TZID=America/Chicago:20250907T140000
DTEND;TZID=America/Chicago:20250907T160000
DTSTAMP:20260425T110653
CREATED:20250822T081339Z
LAST-MODIFIED:20250822T081339Z
UID:78694-1757253600-1757260800@thekerrvillelife.com
SUMMARY:9U\, 10U\, & 11U Open Practice at Kerrville Little League Fields
DESCRIPTION:Mudcats Select Baseball invites players to upcoming open practice sessions for the 9U\, 10U\, and 11U teams. These practices give young athletes the chance to develop their skills\, meet coaches\, and prepare for the upcoming 2026 spring season. \nThe first session takes place on Sunday\, September 7\, 2025\, from 3 pm to 5 pm at the Kerrville Little League baseball fields\, Kerrville\, Texas. Additional open practices will be held for 9U and 10U on September 14 and September 21\, and for 11U on September 21. \nTryouts for the 2026 spring season will be held on October 5\, 2025\, for 9U and 10U\, and on October 19\, 2025\, for 11U\, each from 3 pm to 5 pm. \nPlayers are asked to register in advance to ensure an accurate headcount at: Registration Form.
URL:https://thekerrvillelife.com/event/9u-10u-11u-open-practice-at-kerrville-little-league-fields/2025-09-07/
LOCATION:Kerrville Little League Fields\, 3720 Highway 27\, Kerrville\, TX\, 78028\, United States
CATEGORIES:Sports
ATTACH;FMTTYPE=image/jpeg:https://thekerrvillelife.com/wp-content/uploads/2025/08/9u-10u-and-11u-open-practice-at-kerrville-little-league-fields.jpg
END:VEVENT
BEGIN:VEVENT
DTSTART;TZID=America/Chicago:20250907T140000
DTEND;TZID=America/Chicago:20250907T170000
DTSTAMP:20260425T110653
CREATED:20250822T080302Z
LAST-MODIFIED:20250822T080302Z
UID:78690-1757253600-1757264400@thekerrvillelife.com
SUMMARY:Bronson Louis Live in the Backyard at Tailchasers Dog Park + Pub
DESCRIPTION:Tailchasers Dog Park + Pub in Kerrville hosts Bronson Louis\, an Americana singer-songwriter from Fort Worth\, for a Sunday Funday backyard performance. Known for his raw and heartfelt style\, Bronson delivers an authentic sound that resonates with fans of roots and Americana music. \nThe show takes place on Sunday\, September 7\, 2025\, from 3 pm to 6 pm at Tailchasers Dog Park + Pub\, 516 Jefferson Street\, Kerrville\, Texas 78028.
URL:https://thekerrvillelife.com/event/bronson-louis-live-in-the-backyard-at-tailchasers-dog-park-pub/
LOCATION:Tailchasers Dog Park + Pub\, 516 Jefferson Street\, Kerrville\, TX\, 78028\, United States
CATEGORIES:Music
ATTACH;FMTTYPE=image/jpeg:https://thekerrvillelife.com/wp-content/uploads/2025/08/bronson-louis-live-in-the-backyard-at-tailchasers-dog-park-pub.jpg
END:VEVENT
BEGIN:VEVENT
DTSTART;TZID=America/Chicago:20250907T153000
DTEND;TZID=America/Chicago:20250907T210000
DTSTAMP:20260425T110653
CREATED:20250821T123443Z
LAST-MODIFIED:20250821T123443Z
UID:78541-1757259000-1757278800@thekerrvillelife.com
SUMMARY:Best Pool Tournament in Town at Howdy’s Bar & Chill
DESCRIPTION:Howdy’s Bar & Chill in Kerrville hosts the Best Pool Tournament in Town twice a week\, welcoming players of all ages to compete in a fun and friendly setting. The tournament offers a lively atmosphere for seasoned players and casual competitors alike. \nGames are held every Sunday from 4:30 pm to 10 pm and every Tuesday from 7:30 pm to 10 pm at Howdy’s Bar & Chill\, 101 Rowland\, Kerrville\, Texas 78028. All ages are welcome to participate.
URL:https://thekerrvillelife.com/event/best-pool-tournament-in-town-at-howdys-bar-chill/2025-09-07/
LOCATION:Howdy’s Bar & Chill\, 101 Rowland\, Kerrville\, TX\, 78028\, United States
CATEGORIES:Sports
ATTACH;FMTTYPE=image/jpeg:https://thekerrvillelife.com/wp-content/uploads/2025/08/best-pool-tournament-in-town-at-howdys-bar-and-chill.jpg
END:VEVENT
END:VCALENDAR