BEGIN:VCALENDAR
VERSION:2.0
PRODID:-//The Kerrville Life - ECPv6.15.20//NONSGML v1.0//EN
CALSCALE:GREGORIAN
METHOD:PUBLISH
X-WR-CALNAME:The Kerrville Life
X-ORIGINAL-URL:https://thekerrvillelife.com
X-WR-CALDESC:Events for The Kerrville Life
REFRESH-INTERVAL;VALUE=DURATION:PT1H
X-Robots-Tag:noindex
X-PUBLISHED-TTL:PT1H
BEGIN:VTIMEZONE
TZID:America/Chicago
BEGIN:DAYLIGHT
TZOFFSETFROM:-0600
TZOFFSETTO:-0500
TZNAME:CDT
DTSTART:20240310T080000
END:DAYLIGHT
BEGIN:STANDARD
TZOFFSETFROM:-0500
TZOFFSETTO:-0600
TZNAME:CST
DTSTART:20241103T070000
END:STANDARD
BEGIN:DAYLIGHT
TZOFFSETFROM:-0600
TZOFFSETTO:-0500
TZNAME:CDT
DTSTART:20250309T080000
END:DAYLIGHT
BEGIN:STANDARD
TZOFFSETFROM:-0500
TZOFFSETTO:-0600
TZNAME:CST
DTSTART:20251102T070000
END:STANDARD
BEGIN:DAYLIGHT
TZOFFSETFROM:-0600
TZOFFSETTO:-0500
TZNAME:CDT
DTSTART:20260308T080000
END:DAYLIGHT
BEGIN:STANDARD
TZOFFSETFROM:-0500
TZOFFSETTO:-0600
TZNAME:CST
DTSTART:20261101T070000
END:STANDARD
BEGIN:DAYLIGHT
TZOFFSETFROM:-0600
TZOFFSETTO:-0500
TZNAME:CDT
DTSTART:20270314T080000
END:DAYLIGHT
BEGIN:STANDARD
TZOFFSETFROM:-0500
TZOFFSETTO:-0600
TZNAME:CST
DTSTART:20271107T070000
END:STANDARD
END:VTIMEZONE
BEGIN:VEVENT
DTSTART;TZID=America/Chicago:20260319T173000
DTEND;TZID=America/Chicago:20260319T203000
DTSTAMP:20260420T053839
CREATED:20250821T093001Z
LAST-MODIFIED:20260415T015556Z
UID:79597-1773941400-1773952200@thekerrvillelife.com
SUMMARY:Third Thirsty Thursday Trivia at Arcadia Live
DESCRIPTION:Arcadia Live brings the fun every third Thursday with Third Thirsty Thursday Trivia\, where teams compete for bragging rights\, prizes\, and a chance to be crowned the reigning Trivia Champ Team. Winning teams receive drink tokens\, and the top team will also be awarded complimentary tickets to an upcoming Arcadia Live event.\n\n\nThe next trivia night takes place on August 21\, 2025\, from 6:30 pm to 9:30 pm at Arcadia Live\, 717 Water Street\, Kerrville\, Texas. Teams of up to six can participate\, and a fun team name is required. A full bar will be available throughout the evening.\n\n\nGuests can pre-order Pint & Plow Brewing Co. pizza along with two appetizers when they RSVP\, with dinner delivered to the theatre at 5:45 pm. For large parties\, table reservations may be made by contacting the Arcadia Live Box Office. Please note that no outside beverages are permitted.
URL:https://thekerrvillelife.com/event/third-thirsty-thursday-trivia-at-arcadia-live/2026-03-19/
LOCATION:Arcadia Live Theatre\, 717 Water Street\, Kerrville\, TX\, 78028\, United States
CATEGORIES:Food & Drink
ATTACH;FMTTYPE=image/jpeg:https://thekerrvillelife.com/wp-content/uploads/2025/08/third-thirsty-thursday-trivia-at-arcadia-live.jpg
END:VEVENT
BEGIN:VEVENT
DTSTART;TZID=America/Chicago:20260219T173000
DTEND;TZID=America/Chicago:20260219T203000
DTSTAMP:20260420T053839
CREATED:20250821T093001Z
LAST-MODIFIED:20260415T015556Z
UID:79596-1771522200-1771533000@thekerrvillelife.com
SUMMARY:Third Thirsty Thursday Trivia at Arcadia Live
DESCRIPTION:Arcadia Live brings the fun every third Thursday with Third Thirsty Thursday Trivia\, where teams compete for bragging rights\, prizes\, and a chance to be crowned the reigning Trivia Champ Team. Winning teams receive drink tokens\, and the top team will also be awarded complimentary tickets to an upcoming Arcadia Live event.\n\n\nThe next trivia night takes place on August 21\, 2025\, from 6:30 pm to 9:30 pm at Arcadia Live\, 717 Water Street\, Kerrville\, Texas. Teams of up to six can participate\, and a fun team name is required. A full bar will be available throughout the evening.\n\n\nGuests can pre-order Pint & Plow Brewing Co. pizza along with two appetizers when they RSVP\, with dinner delivered to the theatre at 5:45 pm. For large parties\, table reservations may be made by contacting the Arcadia Live Box Office. Please note that no outside beverages are permitted.
URL:https://thekerrvillelife.com/event/third-thirsty-thursday-trivia-at-arcadia-live/2026-02-19/
LOCATION:Arcadia Live Theatre\, 717 Water Street\, Kerrville\, TX\, 78028\, United States
CATEGORIES:Food & Drink
ATTACH;FMTTYPE=image/jpeg:https://thekerrvillelife.com/wp-content/uploads/2025/08/third-thirsty-thursday-trivia-at-arcadia-live.jpg
END:VEVENT
BEGIN:VEVENT
DTSTART;TZID=America/Chicago:20260115T173000
DTEND;TZID=America/Chicago:20260115T203000
DTSTAMP:20260420T053839
CREATED:20250821T093001Z
LAST-MODIFIED:20260415T015555Z
UID:79595-1768498200-1768509000@thekerrvillelife.com
SUMMARY:Third Thirsty Thursday Trivia at Arcadia Live
DESCRIPTION:Arcadia Live brings the fun every third Thursday with Third Thirsty Thursday Trivia\, where teams compete for bragging rights\, prizes\, and a chance to be crowned the reigning Trivia Champ Team. Winning teams receive drink tokens\, and the top team will also be awarded complimentary tickets to an upcoming Arcadia Live event.\n\n\nThe next trivia night takes place on August 21\, 2025\, from 6:30 pm to 9:30 pm at Arcadia Live\, 717 Water Street\, Kerrville\, Texas. Teams of up to six can participate\, and a fun team name is required. A full bar will be available throughout the evening.\n\n\nGuests can pre-order Pint & Plow Brewing Co. pizza along with two appetizers when they RSVP\, with dinner delivered to the theatre at 5:45 pm. For large parties\, table reservations may be made by contacting the Arcadia Live Box Office. Please note that no outside beverages are permitted.
URL:https://thekerrvillelife.com/event/third-thirsty-thursday-trivia-at-arcadia-live/2026-01-15/
LOCATION:Arcadia Live Theatre\, 717 Water Street\, Kerrville\, TX\, 78028\, United States
CATEGORIES:Food & Drink
ATTACH;FMTTYPE=image/jpeg:https://thekerrvillelife.com/wp-content/uploads/2025/08/third-thirsty-thursday-trivia-at-arcadia-live.jpg
END:VEVENT
BEGIN:VEVENT
DTSTART;TZID=America/Chicago:20251218T173000
DTEND;TZID=America/Chicago:20251218T203000
DTSTAMP:20260420T053839
CREATED:20250821T093001Z
LAST-MODIFIED:20260415T015555Z
UID:79594-1766079000-1766089800@thekerrvillelife.com
SUMMARY:Third Thirsty Thursday Trivia at Arcadia Live
DESCRIPTION:Arcadia Live brings the fun every third Thursday with Third Thirsty Thursday Trivia\, where teams compete for bragging rights\, prizes\, and a chance to be crowned the reigning Trivia Champ Team. Winning teams receive drink tokens\, and the top team will also be awarded complimentary tickets to an upcoming Arcadia Live event.\n\n\nThe next trivia night takes place on August 21\, 2025\, from 6:30 pm to 9:30 pm at Arcadia Live\, 717 Water Street\, Kerrville\, Texas. Teams of up to six can participate\, and a fun team name is required. A full bar will be available throughout the evening.\n\n\nGuests can pre-order Pint & Plow Brewing Co. pizza along with two appetizers when they RSVP\, with dinner delivered to the theatre at 5:45 pm. For large parties\, table reservations may be made by contacting the Arcadia Live Box Office. Please note that no outside beverages are permitted.
URL:https://thekerrvillelife.com/event/third-thirsty-thursday-trivia-at-arcadia-live/2025-12-18/
LOCATION:Arcadia Live Theatre\, 717 Water Street\, Kerrville\, TX\, 78028\, United States
CATEGORIES:Food & Drink
ATTACH;FMTTYPE=image/jpeg:https://thekerrvillelife.com/wp-content/uploads/2025/08/third-thirsty-thursday-trivia-at-arcadia-live.jpg
END:VEVENT
BEGIN:VEVENT
DTSTART;TZID=America/Chicago:20251120T173000
DTEND;TZID=America/Chicago:20251120T203000
DTSTAMP:20260420T053839
CREATED:20250821T093001Z
LAST-MODIFIED:20260415T015551Z
UID:79593-1763659800-1763670600@thekerrvillelife.com
SUMMARY:Third Thirsty Thursday Trivia at Arcadia Live
DESCRIPTION:Arcadia Live brings the fun every third Thursday with Third Thirsty Thursday Trivia\, where teams compete for bragging rights\, prizes\, and a chance to be crowned the reigning Trivia Champ Team. Winning teams receive drink tokens\, and the top team will also be awarded complimentary tickets to an upcoming Arcadia Live event.\n\n\nThe next trivia night takes place on August 21\, 2025\, from 6:30 pm to 9:30 pm at Arcadia Live\, 717 Water Street\, Kerrville\, Texas. Teams of up to six can participate\, and a fun team name is required. A full bar will be available throughout the evening.\n\n\nGuests can pre-order Pint & Plow Brewing Co. pizza along with two appetizers when they RSVP\, with dinner delivered to the theatre at 5:45 pm. For large parties\, table reservations may be made by contacting the Arcadia Live Box Office. Please note that no outside beverages are permitted.
URL:https://thekerrvillelife.com/event/third-thirsty-thursday-trivia-at-arcadia-live/2025-11-20/
LOCATION:Arcadia Live Theatre\, 717 Water Street\, Kerrville\, TX\, 78028\, United States
CATEGORIES:Food & Drink
ATTACH;FMTTYPE=image/jpeg:https://thekerrvillelife.com/wp-content/uploads/2025/08/third-thirsty-thursday-trivia-at-arcadia-live.jpg
END:VEVENT
BEGIN:VEVENT
DTSTART;TZID=America/Chicago:20251016T173000
DTEND;TZID=America/Chicago:20251016T203000
DTSTAMP:20260420T053839
CREATED:20250821T093001Z
LAST-MODIFIED:20260415T015551Z
UID:79592-1760635800-1760646600@thekerrvillelife.com
SUMMARY:Third Thirsty Thursday Trivia at Arcadia Live
DESCRIPTION:Arcadia Live brings the fun every third Thursday with Third Thirsty Thursday Trivia\, where teams compete for bragging rights\, prizes\, and a chance to be crowned the reigning Trivia Champ Team. Winning teams receive drink tokens\, and the top team will also be awarded complimentary tickets to an upcoming Arcadia Live event.\n\n\nThe next trivia night takes place on August 21\, 2025\, from 6:30 pm to 9:30 pm at Arcadia Live\, 717 Water Street\, Kerrville\, Texas. Teams of up to six can participate\, and a fun team name is required. A full bar will be available throughout the evening.\n\n\nGuests can pre-order Pint & Plow Brewing Co. pizza along with two appetizers when they RSVP\, with dinner delivered to the theatre at 5:45 pm. For large parties\, table reservations may be made by contacting the Arcadia Live Box Office. Please note that no outside beverages are permitted.
URL:https://thekerrvillelife.com/event/third-thirsty-thursday-trivia-at-arcadia-live/2025-10-16/
LOCATION:Arcadia Live Theatre\, 717 Water Street\, Kerrville\, TX\, 78028\, United States
CATEGORIES:Food & Drink
ATTACH;FMTTYPE=image/jpeg:https://thekerrvillelife.com/wp-content/uploads/2025/08/third-thirsty-thursday-trivia-at-arcadia-live.jpg
END:VEVENT
BEGIN:VEVENT
DTSTART;TZID=America/Chicago:20250918T173000
DTEND;TZID=America/Chicago:20250918T203000
DTSTAMP:20260420T053839
CREATED:20250821T093001Z
LAST-MODIFIED:20260415T015550Z
UID:79591-1758216600-1758227400@thekerrvillelife.com
SUMMARY:Third Thirsty Thursday Trivia at Arcadia Live
DESCRIPTION:Arcadia Live brings the fun every third Thursday with Third Thirsty Thursday Trivia\, where teams compete for bragging rights\, prizes\, and a chance to be crowned the reigning Trivia Champ Team. Winning teams receive drink tokens\, and the top team will also be awarded complimentary tickets to an upcoming Arcadia Live event.\n\n\nThe next trivia night takes place on August 21\, 2025\, from 6:30 pm to 9:30 pm at Arcadia Live\, 717 Water Street\, Kerrville\, Texas. Teams of up to six can participate\, and a fun team name is required. A full bar will be available throughout the evening.\n\n\nGuests can pre-order Pint & Plow Brewing Co. pizza along with two appetizers when they RSVP\, with dinner delivered to the theatre at 5:45 pm. For large parties\, table reservations may be made by contacting the Arcadia Live Box Office. Please note that no outside beverages are permitted.
URL:https://thekerrvillelife.com/event/third-thirsty-thursday-trivia-at-arcadia-live/2025-09-18/
LOCATION:Arcadia Live Theatre\, 717 Water Street\, Kerrville\, TX\, 78028\, United States
CATEGORIES:Food & Drink
ATTACH;FMTTYPE=image/jpeg:https://thekerrvillelife.com/wp-content/uploads/2025/08/third-thirsty-thursday-trivia-at-arcadia-live.jpg
END:VEVENT
BEGIN:VEVENT
DTSTART;TZID=America/Chicago:20250821T173000
DTEND;TZID=America/Chicago:20250821T203000
DTSTAMP:20260420T053839
CREATED:20250821T093001Z
LAST-MODIFIED:20260415T015546Z
UID:78429-1755797400-1755808200@thekerrvillelife.com
SUMMARY:Third Thirsty Thursday Trivia at Arcadia Live
DESCRIPTION:Arcadia Live brings the fun every third Thursday with Third Thirsty Thursday Trivia\, where teams compete for bragging rights\, prizes\, and a chance to be crowned the reigning Trivia Champ Team. Winning teams receive drink tokens\, and the top team will also be awarded complimentary tickets to an upcoming Arcadia Live event.\n\n\nThe next trivia night takes place on August 21\, 2025\, from 6:30 pm to 9:30 pm at Arcadia Live\, 717 Water Street\, Kerrville\, Texas. Teams of up to six can participate\, and a fun team name is required. A full bar will be available throughout the evening.\n\n\nGuests can pre-order Pint & Plow Brewing Co. pizza along with two appetizers when they RSVP\, with dinner delivered to the theatre at 5:45 pm. For large parties\, table reservations may be made by contacting the Arcadia Live Box Office. Please note that no outside beverages are permitted.
URL:https://thekerrvillelife.com/event/third-thirsty-thursday-trivia-at-arcadia-live/2025-08-21/
LOCATION:Arcadia Live Theatre\, 717 Water Street\, Kerrville\, TX\, 78028\, United States
CATEGORIES:Food & Drink
ATTACH;FMTTYPE=image/jpeg:https://thekerrvillelife.com/wp-content/uploads/2025/08/third-thirsty-thursday-trivia-at-arcadia-live.jpg
END:VEVENT
END:VCALENDAR