BEGIN:VCALENDAR
VERSION:2.0
PRODID:-//The Kerrville Life - ECPv6.15.20//NONSGML v1.0//EN
CALSCALE:GREGORIAN
METHOD:PUBLISH
X-WR-CALNAME:The Kerrville Life
X-ORIGINAL-URL:https://thekerrvillelife.com
X-WR-CALDESC:Events for The Kerrville Life
REFRESH-INTERVAL;VALUE=DURATION:PT1H
X-Robots-Tag:noindex
X-PUBLISHED-TTL:PT1H
BEGIN:VTIMEZONE
TZID:America/Chicago
BEGIN:DAYLIGHT
TZOFFSETFROM:-0600
TZOFFSETTO:-0500
TZNAME:CDT
DTSTART:20240310T080000
END:DAYLIGHT
BEGIN:STANDARD
TZOFFSETFROM:-0500
TZOFFSETTO:-0600
TZNAME:CST
DTSTART:20241103T070000
END:STANDARD
BEGIN:DAYLIGHT
TZOFFSETFROM:-0600
TZOFFSETTO:-0500
TZNAME:CDT
DTSTART:20250309T080000
END:DAYLIGHT
BEGIN:STANDARD
TZOFFSETFROM:-0500
TZOFFSETTO:-0600
TZNAME:CST
DTSTART:20251102T070000
END:STANDARD
BEGIN:DAYLIGHT
TZOFFSETFROM:-0600
TZOFFSETTO:-0500
TZNAME:CDT
DTSTART:20260308T080000
END:DAYLIGHT
BEGIN:STANDARD
TZOFFSETFROM:-0500
TZOFFSETTO:-0600
TZNAME:CST
DTSTART:20261101T070000
END:STANDARD
END:VTIMEZONE
BEGIN:VEVENT
DTSTART;TZID=America/Chicago:20251214T090000
DTEND;TZID=America/Chicago:20251214T150000
DTSTAMP:20260420T073435
CREATED:20250822T100300Z
LAST-MODIFIED:20250822T100300Z
UID:78760-1765702800-1765724400@thekerrvillelife.com
SUMMARY:Texas Gun & Knife Association Show – Kerrville
DESCRIPTION:The Texas Gun & Knife Association brings its traveling show to Kerrville at the Happy State Bank Expo Hall\, offering attendees the chance to explore a wide variety of firearms\, knives\, outdoor gear\, and collectibles. Vendors and dealers will showcase merchandise\, with opportunities for enthusiasts to buy\, sell\, and trade in a safe and organized setting.\n\n\nUpcoming Kerrville show dates for 2025 include:\n\n\n\nFebruary 22–23\nApril 26–27\nJuly 12–13\nSeptember 13–14\nNovember 8–9\nDecember 20–21\n\nShow hours are Saturdays from 9 am to 5 pm and Sundays from 10 am to 4 pm at the Happy State Bank Expo Hall\, 3785 Highway 27\, Kerrville\, Texas 78028. Dealer setup is available from 2 pm to 8 pm the day prior.\n\n\nFor more information or to RSVP\, contact Janice Hill at (830) 285-0575 or visit www.texasgunandknifeshows.com.
URL:https://thekerrvillelife.com/event/texas-gun-knife-association-show-kerrville-3/2025-12-14/
LOCATION:Amarillo Civic Center\, 401 S Buchanan St\, Amarillo\, TX\, 79101\, United States
CATEGORIES:General
ATTACH;FMTTYPE=image/jpeg:https://thekerrvillelife.com/wp-content/uploads/2025/08/texas-gun-and-knife-association-show-kerrville.jpg
END:VEVENT
BEGIN:VEVENT
DTSTART;TZID=America/Chicago:20251213T080000
DTEND;TZID=America/Chicago:20251213T160000
DTSTAMP:20260420T073435
CREATED:20250822T100300Z
LAST-MODIFIED:20250822T100300Z
UID:78758-1765612800-1765641600@thekerrvillelife.com
SUMMARY:Texas Gun & Knife Association Show – Kerrville
DESCRIPTION:The Texas Gun & Knife Association brings its traveling show to Kerrville at the Happy State Bank Expo Hall\, offering attendees the chance to explore a wide variety of firearms\, knives\, outdoor gear\, and collectibles. Vendors and dealers will showcase merchandise\, with opportunities for enthusiasts to buy\, sell\, and trade in a safe and organized setting.\n\n\nUpcoming Kerrville show dates for 2025 include:\n\n\n\nFebruary 22–23\nApril 26–27\nJuly 12–13\nSeptember 13–14\nNovember 8–9\nDecember 20–21\n\nShow hours are Saturdays from 9 am to 5 pm and Sundays from 10 am to 4 pm at the Happy State Bank Expo Hall\, 3785 Highway 27\, Kerrville\, Texas 78028. Dealer setup is available from 2 pm to 8 pm the day prior.\n\n\nFor more information or to RSVP\, contact Janice Hill at (830) 285-0575 or visit www.texasgunandknifeshows.com.
URL:https://thekerrvillelife.com/event/texas-gun-knife-association-show-kerrville-3/2025-12-13/
LOCATION:Amarillo Civic Center\, 401 S Buchanan St\, Amarillo\, TX\, 79101\, United States
CATEGORIES:General
ATTACH;FMTTYPE=image/jpeg:https://thekerrvillelife.com/wp-content/uploads/2025/08/texas-gun-and-knife-association-show-kerrville.jpg
END:VEVENT
END:VCALENDAR