BEGIN:VCALENDAR
VERSION:2.0
PRODID:-//The Kerrville Life - ECPv6.15.20//NONSGML v1.0//EN
CALSCALE:GREGORIAN
METHOD:PUBLISH
X-WR-CALNAME:The Kerrville Life
X-ORIGINAL-URL:https://thekerrvillelife.com
X-WR-CALDESC:Events for The Kerrville Life
REFRESH-INTERVAL;VALUE=DURATION:PT1H
X-Robots-Tag:noindex
X-PUBLISHED-TTL:PT1H
BEGIN:VTIMEZONE
TZID:America/Chicago
BEGIN:DAYLIGHT
TZOFFSETFROM:-0600
TZOFFSETTO:-0500
TZNAME:CDT
DTSTART:20250309T080000
END:DAYLIGHT
BEGIN:STANDARD
TZOFFSETFROM:-0500
TZOFFSETTO:-0600
TZNAME:CST
DTSTART:20251102T070000
END:STANDARD
BEGIN:DAYLIGHT
TZOFFSETFROM:-0600
TZOFFSETTO:-0500
TZNAME:CDT
DTSTART:20260308T080000
END:DAYLIGHT
BEGIN:STANDARD
TZOFFSETFROM:-0500
TZOFFSETTO:-0600
TZNAME:CST
DTSTART:20261101T070000
END:STANDARD
BEGIN:DAYLIGHT
TZOFFSETFROM:-0600
TZOFFSETTO:-0500
TZNAME:CDT
DTSTART:20270314T080000
END:DAYLIGHT
BEGIN:STANDARD
TZOFFSETFROM:-0500
TZOFFSETTO:-0600
TZNAME:CST
DTSTART:20271107T070000
END:STANDARD
END:VTIMEZONE
BEGIN:VEVENT
DTSTART;TZID=America/Chicago:20260218T100000
DTEND;TZID=America/Chicago:20260218T110000
DTSTAMP:20260421T063701
CREATED:20260123T020735Z
LAST-MODIFIED:20260123T020735Z
UID:80076-1771408800-1771412400@thekerrvillelife.com
SUMMARY:Storytime at Butt-Holdsworth Memorial Library
DESCRIPTION:Weekly Storytime at the Butt-Holdsworth Memorial Library offers young children and their caregivers an engaging hour filled with books\, songs\, rhymes\, and a simple craft. Each session focuses on a different letter of the alphabet\, supporting early literacy and learning in a fun\, interactive environment geared toward children ages 3 to 5.\n\n\nStorytime will be held on Wednesday\, February 4\, 11\, and 18\, 2026\, from 10 am to 11 am in the first-floor meeting room at the Butt-Holdsworth Memorial Library\, located at 505 Water Street in Kerrville\, Texas. The program is designed for babies and children\, with accompanying adults expected to attend and actively participate. Drop-offs are not permitted.\n\n\nFor additional information about this program or other library events\, contact the Butt-Holdsworth Memorial Library at (830) 257-8422.
URL:https://thekerrvillelife.com/event/storytime-at-butt-holdsworth-memorial-library-6/2026-02-18/
LOCATION:Butt-Holdsworth Memorial Library\, 505 Water Street\, Kerrville\, TX\, 78028\, United States
CATEGORIES:Kids & Family
ATTACH;FMTTYPE=image/jpeg:https://thekerrvillelife.com/wp-content/uploads/2026/01/storytime-at-butt-holdsworth-memorial-library.jpg
END:VEVENT
BEGIN:VEVENT
DTSTART;TZID=America/Chicago:20260211T100000
DTEND;TZID=America/Chicago:20260211T110000
DTSTAMP:20260421T063701
CREATED:20260123T020735Z
LAST-MODIFIED:20260123T020735Z
UID:80075-1770804000-1770807600@thekerrvillelife.com
SUMMARY:Storytime at Butt-Holdsworth Memorial Library
DESCRIPTION:Weekly Storytime at the Butt-Holdsworth Memorial Library offers young children and their caregivers an engaging hour filled with books\, songs\, rhymes\, and a simple craft. Each session focuses on a different letter of the alphabet\, supporting early literacy and learning in a fun\, interactive environment geared toward children ages 3 to 5.\n\n\nStorytime will be held on Wednesday\, February 4\, 11\, and 18\, 2026\, from 10 am to 11 am in the first-floor meeting room at the Butt-Holdsworth Memorial Library\, located at 505 Water Street in Kerrville\, Texas. The program is designed for babies and children\, with accompanying adults expected to attend and actively participate. Drop-offs are not permitted.\n\n\nFor additional information about this program or other library events\, contact the Butt-Holdsworth Memorial Library at (830) 257-8422.
URL:https://thekerrvillelife.com/event/storytime-at-butt-holdsworth-memorial-library-6/2026-02-11/
LOCATION:Butt-Holdsworth Memorial Library\, 505 Water Street\, Kerrville\, TX\, 78028\, United States
CATEGORIES:Kids & Family
ATTACH;FMTTYPE=image/jpeg:https://thekerrvillelife.com/wp-content/uploads/2026/01/storytime-at-butt-holdsworth-memorial-library.jpg
END:VEVENT
BEGIN:VEVENT
DTSTART;TZID=America/Chicago:20260204T100000
DTEND;TZID=America/Chicago:20260204T110000
DTSTAMP:20260421T063701
CREATED:20260123T020735Z
LAST-MODIFIED:20260123T020735Z
UID:80074-1770199200-1770202800@thekerrvillelife.com
SUMMARY:Storytime at Butt-Holdsworth Memorial Library
DESCRIPTION:Weekly Storytime at the Butt-Holdsworth Memorial Library offers young children and their caregivers an engaging hour filled with books\, songs\, rhymes\, and a simple craft. Each session focuses on a different letter of the alphabet\, supporting early literacy and learning in a fun\, interactive environment geared toward children ages 3 to 5.\n\n\nStorytime will be held on Wednesday\, February 4\, 11\, and 18\, 2026\, from 10 am to 11 am in the first-floor meeting room at the Butt-Holdsworth Memorial Library\, located at 505 Water Street in Kerrville\, Texas. The program is designed for babies and children\, with accompanying adults expected to attend and actively participate. Drop-offs are not permitted.\n\n\nFor additional information about this program or other library events\, contact the Butt-Holdsworth Memorial Library at (830) 257-8422.
URL:https://thekerrvillelife.com/event/storytime-at-butt-holdsworth-memorial-library-6/2026-02-04/
LOCATION:Butt-Holdsworth Memorial Library\, 505 Water Street\, Kerrville\, TX\, 78028\, United States
CATEGORIES:Kids & Family
ATTACH;FMTTYPE=image/jpeg:https://thekerrvillelife.com/wp-content/uploads/2026/01/storytime-at-butt-holdsworth-memorial-library.jpg
END:VEVENT
END:VCALENDAR