BEGIN:VCALENDAR
VERSION:2.0
PRODID:-//The Kerrville Life - ECPv6.15.20//NONSGML v1.0//EN
CALSCALE:GREGORIAN
METHOD:PUBLISH
X-WR-CALNAME:The Kerrville Life
X-ORIGINAL-URL:https://thekerrvillelife.com
X-WR-CALDESC:Events for The Kerrville Life
REFRESH-INTERVAL;VALUE=DURATION:PT1H
X-Robots-Tag:noindex
X-PUBLISHED-TTL:PT1H
BEGIN:VTIMEZONE
TZID:America/Chicago
BEGIN:DAYLIGHT
TZOFFSETFROM:-0600
TZOFFSETTO:-0500
TZNAME:CDT
DTSTART:20240310T080000
END:DAYLIGHT
BEGIN:STANDARD
TZOFFSETFROM:-0500
TZOFFSETTO:-0600
TZNAME:CST
DTSTART:20241103T070000
END:STANDARD
BEGIN:DAYLIGHT
TZOFFSETFROM:-0600
TZOFFSETTO:-0500
TZNAME:CDT
DTSTART:20250309T080000
END:DAYLIGHT
BEGIN:STANDARD
TZOFFSETFROM:-0500
TZOFFSETTO:-0600
TZNAME:CST
DTSTART:20251102T070000
END:STANDARD
BEGIN:DAYLIGHT
TZOFFSETFROM:-0600
TZOFFSETTO:-0500
TZNAME:CDT
DTSTART:20260308T080000
END:DAYLIGHT
BEGIN:STANDARD
TZOFFSETFROM:-0500
TZOFFSETTO:-0600
TZNAME:CST
DTSTART:20261101T070000
END:STANDARD
END:VTIMEZONE
BEGIN:VEVENT
DTSTART;TZID=America/Chicago:20251220T083000
DTEND;TZID=America/Chicago:20251220T100000
DTSTAMP:20260423T054452
CREATED:20250910T062906Z
LAST-MODIFIED:20260109T011838Z
UID:78884-1766219400-1766224800@thekerrvillelife.com
SUMMARY:San Antonio Food Bank Distribution at First Presbyterian Church
DESCRIPTION:The San Antonio Food Bank will be in Kerrville on the third Saturday of each month to provide food for individuals and families in need. Hosted by First Presbyterian Church\, the distribution offers vital support to the community in a welcoming environment.\n\n\nThe next event takes place on Saturday\, September 20\, 2025\, from 9:30 am to 11 am at First Presbyterian Church. Guests should enter at Jefferson and Earl Garrett Streets in Kerrville\, Texas.
URL:https://thekerrvillelife.com/event/san-antonio-food-bank-distribution-at-first-presbyterian-church/2025-12-20/
LOCATION:First Presbyterian Church\, 800 Jefferson St\, Kerrville\, TX\, 78028\, United States
CATEGORIES:Food & Drink
ATTACH;FMTTYPE=image/jpeg:https://thekerrvillelife.com/wp-content/uploads/2025/09/san-antonio-food-bank-distribution-at-first-presbyterian-church.jpg
END:VEVENT
BEGIN:VEVENT
DTSTART;TZID=America/Chicago:20251115T083000
DTEND;TZID=America/Chicago:20251115T100000
DTSTAMP:20260423T054452
CREATED:20250910T062906Z
LAST-MODIFIED:20260109T011838Z
UID:78883-1763195400-1763200800@thekerrvillelife.com
SUMMARY:San Antonio Food Bank Distribution at First Presbyterian Church
DESCRIPTION:The San Antonio Food Bank will be in Kerrville on the third Saturday of each month to provide food for individuals and families in need. Hosted by First Presbyterian Church\, the distribution offers vital support to the community in a welcoming environment.\n\n\nThe next event takes place on Saturday\, September 20\, 2025\, from 9:30 am to 11 am at First Presbyterian Church. Guests should enter at Jefferson and Earl Garrett Streets in Kerrville\, Texas.
URL:https://thekerrvillelife.com/event/san-antonio-food-bank-distribution-at-first-presbyterian-church/2025-11-15/
LOCATION:First Presbyterian Church\, 800 Jefferson St\, Kerrville\, TX\, 78028\, United States
CATEGORIES:Food & Drink
ATTACH;FMTTYPE=image/jpeg:https://thekerrvillelife.com/wp-content/uploads/2025/09/san-antonio-food-bank-distribution-at-first-presbyterian-church.jpg
END:VEVENT
BEGIN:VEVENT
DTSTART;TZID=America/Chicago:20251018T083000
DTEND;TZID=America/Chicago:20251018T100000
DTSTAMP:20260423T054452
CREATED:20250910T062906Z
LAST-MODIFIED:20260109T011837Z
UID:78882-1760776200-1760781600@thekerrvillelife.com
SUMMARY:San Antonio Food Bank Distribution at First Presbyterian Church
DESCRIPTION:The San Antonio Food Bank will be in Kerrville on the third Saturday of each month to provide food for individuals and families in need. Hosted by First Presbyterian Church\, the distribution offers vital support to the community in a welcoming environment.\n\n\nThe next event takes place on Saturday\, September 20\, 2025\, from 9:30 am to 11 am at First Presbyterian Church. Guests should enter at Jefferson and Earl Garrett Streets in Kerrville\, Texas.
URL:https://thekerrvillelife.com/event/san-antonio-food-bank-distribution-at-first-presbyterian-church/2025-10-18/
LOCATION:First Presbyterian Church\, 800 Jefferson St\, Kerrville\, TX\, 78028\, United States
CATEGORIES:Food & Drink
ATTACH;FMTTYPE=image/jpeg:https://thekerrvillelife.com/wp-content/uploads/2025/09/san-antonio-food-bank-distribution-at-first-presbyterian-church.jpg
END:VEVENT
BEGIN:VEVENT
DTSTART;TZID=America/Chicago:20250920T083000
DTEND;TZID=America/Chicago:20250920T100000
DTSTAMP:20260423T054452
CREATED:20250910T062906Z
LAST-MODIFIED:20260109T011836Z
UID:78874-1758357000-1758362400@thekerrvillelife.com
SUMMARY:San Antonio Food Bank Distribution at First Presbyterian Church
DESCRIPTION:The San Antonio Food Bank will be in Kerrville on the third Saturday of each month to provide food for individuals and families in need. Hosted by First Presbyterian Church\, the distribution offers vital support to the community in a welcoming environment.\n\n\nThe next event takes place on Saturday\, September 20\, 2025\, from 9:30 am to 11 am at First Presbyterian Church. Guests should enter at Jefferson and Earl Garrett Streets in Kerrville\, Texas.
URL:https://thekerrvillelife.com/event/san-antonio-food-bank-distribution-at-first-presbyterian-church/2025-09-20/
LOCATION:First Presbyterian Church\, 800 Jefferson St\, Kerrville\, TX\, 78028\, United States
CATEGORIES:Food & Drink
ATTACH;FMTTYPE=image/jpeg:https://thekerrvillelife.com/wp-content/uploads/2025/09/san-antonio-food-bank-distribution-at-first-presbyterian-church.jpg
END:VEVENT
END:VCALENDAR