BEGIN:VCALENDAR
VERSION:2.0
PRODID:-//The Kerrville Life - ECPv6.15.20//NONSGML v1.0//EN
CALSCALE:GREGORIAN
METHOD:PUBLISH
X-WR-CALNAME:The Kerrville Life
X-ORIGINAL-URL:https://thekerrvillelife.com
X-WR-CALDESC:Events for The Kerrville Life
REFRESH-INTERVAL;VALUE=DURATION:PT1H
X-Robots-Tag:noindex
X-PUBLISHED-TTL:PT1H
BEGIN:VTIMEZONE
TZID:America/Chicago
BEGIN:DAYLIGHT
TZOFFSETFROM:-0600
TZOFFSETTO:-0500
TZNAME:CDT
DTSTART:20240310T080000
END:DAYLIGHT
BEGIN:STANDARD
TZOFFSETFROM:-0500
TZOFFSETTO:-0600
TZNAME:CST
DTSTART:20241103T070000
END:STANDARD
BEGIN:DAYLIGHT
TZOFFSETFROM:-0600
TZOFFSETTO:-0500
TZNAME:CDT
DTSTART:20250309T080000
END:DAYLIGHT
BEGIN:STANDARD
TZOFFSETFROM:-0500
TZOFFSETTO:-0600
TZNAME:CST
DTSTART:20251102T070000
END:STANDARD
BEGIN:DAYLIGHT
TZOFFSETFROM:-0600
TZOFFSETTO:-0500
TZNAME:CDT
DTSTART:20260308T080000
END:DAYLIGHT
BEGIN:STANDARD
TZOFFSETFROM:-0500
TZOFFSETTO:-0600
TZNAME:CST
DTSTART:20261101T070000
END:STANDARD
END:VTIMEZONE
BEGIN:VEVENT
DTSTART;TZID=America/Chicago:20250824T120000
DTEND;TZID=America/Chicago:20250824T150000
DTSTAMP:20260421T051746
CREATED:20250821T100644Z
LAST-MODIFIED:20250821T100644Z
UID:78475-1756036800-1756047600@thekerrvillelife.com
SUMMARY:Prehistoric Journey Weekend at Yogi Bear’s Jellystone Park Guadalupe River
DESCRIPTION:Yogi Bear’s Jellystone Park Camp-Resort in Kerrville invites families to step back in time for Prehistoric Journey Weekend. The three-day event is filled with dinosaur-themed fun\, including a Dino Egg Hunt\, fossil activities\, and jurassic-style entertainment for all ages. Guests can look forward to a weekend of discovery\, adventure\, and plenty of family-friendly excitement.\n\n\nThe event runs from Friday\, August 22\, 2025\, at 1 pm through Sunday\, August 24\, 2025\, at 4 pm at Yogi Bear’s Jellystone Park Camp-Resort: Guadalupe River\, 2605 Junction Highway\, Kerrville\, Texas 78028.
URL:https://thekerrvillelife.com/event/prehistoric-journey-weekend-at-yogi-bears-jellystone-park-guadalupe-river/2025-08-24/
LOCATION:Yogi Bear’s Jellystone Park Guadalupe River\, 2605 Junction Highway\, Kerrville\, TX\, 78028\, United States
CATEGORIES:Kids & Family
ATTACH;FMTTYPE=image/jpeg:https://thekerrvillelife.com/wp-content/uploads/2025/08/prehistoric-journey-weekend-at-yogi-bears-jellystone-park-guadalupe-river.jpg
END:VEVENT
BEGIN:VEVENT
DTSTART;TZID=America/Chicago:20250823T120000
DTEND;TZID=America/Chicago:20250823T150000
DTSTAMP:20260421T051746
CREATED:20250821T100644Z
LAST-MODIFIED:20250821T100644Z
UID:78474-1755950400-1755961200@thekerrvillelife.com
SUMMARY:Prehistoric Journey Weekend at Yogi Bear’s Jellystone Park Guadalupe River
DESCRIPTION:Yogi Bear’s Jellystone Park Camp-Resort in Kerrville invites families to step back in time for Prehistoric Journey Weekend. The three-day event is filled with dinosaur-themed fun\, including a Dino Egg Hunt\, fossil activities\, and jurassic-style entertainment for all ages. Guests can look forward to a weekend of discovery\, adventure\, and plenty of family-friendly excitement.\n\n\nThe event runs from Friday\, August 22\, 2025\, at 1 pm through Sunday\, August 24\, 2025\, at 4 pm at Yogi Bear’s Jellystone Park Camp-Resort: Guadalupe River\, 2605 Junction Highway\, Kerrville\, Texas 78028.
URL:https://thekerrvillelife.com/event/prehistoric-journey-weekend-at-yogi-bears-jellystone-park-guadalupe-river/2025-08-23/
LOCATION:Yogi Bear’s Jellystone Park Guadalupe River\, 2605 Junction Highway\, Kerrville\, TX\, 78028\, United States
CATEGORIES:Kids & Family
ATTACH;FMTTYPE=image/jpeg:https://thekerrvillelife.com/wp-content/uploads/2025/08/prehistoric-journey-weekend-at-yogi-bears-jellystone-park-guadalupe-river.jpg
END:VEVENT
BEGIN:VEVENT
DTSTART;TZID=America/Chicago:20250822T120000
DTEND;TZID=America/Chicago:20250822T150000
DTSTAMP:20260421T051746
CREATED:20250821T100644Z
LAST-MODIFIED:20250821T100644Z
UID:78471-1755864000-1755874800@thekerrvillelife.com
SUMMARY:Prehistoric Journey Weekend at Yogi Bear’s Jellystone Park Guadalupe River
DESCRIPTION:Yogi Bear’s Jellystone Park Camp-Resort in Kerrville invites families to step back in time for Prehistoric Journey Weekend. The three-day event is filled with dinosaur-themed fun\, including a Dino Egg Hunt\, fossil activities\, and jurassic-style entertainment for all ages. Guests can look forward to a weekend of discovery\, adventure\, and plenty of family-friendly excitement.\n\n\nThe event runs from Friday\, August 22\, 2025\, at 1 pm through Sunday\, August 24\, 2025\, at 4 pm at Yogi Bear’s Jellystone Park Camp-Resort: Guadalupe River\, 2605 Junction Highway\, Kerrville\, Texas 78028.
URL:https://thekerrvillelife.com/event/prehistoric-journey-weekend-at-yogi-bears-jellystone-park-guadalupe-river/2025-08-22/
LOCATION:Yogi Bear’s Jellystone Park Guadalupe River\, 2605 Junction Highway\, Kerrville\, TX\, 78028\, United States
CATEGORIES:Kids & Family
ATTACH;FMTTYPE=image/jpeg:https://thekerrvillelife.com/wp-content/uploads/2025/08/prehistoric-journey-weekend-at-yogi-bears-jellystone-park-guadalupe-river.jpg
END:VEVENT
END:VCALENDAR