BEGIN:VCALENDAR
VERSION:2.0
PRODID:-//The Kerrville Life - ECPv6.15.20//NONSGML v1.0//EN
CALSCALE:GREGORIAN
METHOD:PUBLISH
X-WR-CALNAME:The Kerrville Life
X-ORIGINAL-URL:https://thekerrvillelife.com
X-WR-CALDESC:Events for The Kerrville Life
REFRESH-INTERVAL;VALUE=DURATION:PT1H
X-Robots-Tag:noindex
X-PUBLISHED-TTL:PT1H
BEGIN:VTIMEZONE
TZID:America/Chicago
BEGIN:DAYLIGHT
TZOFFSETFROM:-0600
TZOFFSETTO:-0500
TZNAME:CDT
DTSTART:20240310T080000
END:DAYLIGHT
BEGIN:STANDARD
TZOFFSETFROM:-0500
TZOFFSETTO:-0600
TZNAME:CST
DTSTART:20241103T070000
END:STANDARD
BEGIN:DAYLIGHT
TZOFFSETFROM:-0600
TZOFFSETTO:-0500
TZNAME:CDT
DTSTART:20250309T080000
END:DAYLIGHT
BEGIN:STANDARD
TZOFFSETFROM:-0500
TZOFFSETTO:-0600
TZNAME:CST
DTSTART:20251102T070000
END:STANDARD
BEGIN:DAYLIGHT
TZOFFSETFROM:-0600
TZOFFSETTO:-0500
TZNAME:CDT
DTSTART:20260308T080000
END:DAYLIGHT
BEGIN:STANDARD
TZOFFSETFROM:-0500
TZOFFSETTO:-0600
TZNAME:CST
DTSTART:20261101T070000
END:STANDARD
END:VTIMEZONE
BEGIN:VEVENT
DTSTART;TZID=America/Chicago:20250901T120000
DTEND;TZID=America/Chicago:20250901T150000
DTSTAMP:20260423T105930
CREATED:20250821T131056Z
LAST-MODIFIED:20250821T131056Z
UID:78607-1756728000-1756738800@thekerrvillelife.com
SUMMARY:Labor Day: Summer Sendoff Weekend at Yogi Bear’s Jellystone Park Guadalupe River
DESCRIPTION:Yogi Bear’s Jellystone Park Camp-Resort in Kerrville invites families to celebrate Labor Day with a weekend full of activities and entertainment. Highlights include a festive Block Party Potluck\, a Golf Cart Decorating Contest and Parade with patriotic flair\, and a Summer Sendoff Sport Competition where guests can show off their skills. Kids and adults alike will find plenty of fun to cap off the summer season.\n\n\nThe celebration runs from Friday\, August 29\, 2025\, at 1 pm through Monday\, September 1\, 2025\, at 4 pm at Yogi Bear’s Jellystone Park Camp-Resort: Guadalupe River\, 2605 Junction Highway\, Kerrville\, Texas 78028.
URL:https://thekerrvillelife.com/event/labor-day-summer-sendoff-weekend-at-yogi-bears-jellystone-park-guadalupe-river/2025-09-01/
LOCATION:Yogi Bear’s Jellystone Park Guadalupe River\, 2605 Junction Highway\, Kerrville\, TX\, 78028\, United States
CATEGORIES:Holiday,Kids & Family
ATTACH;FMTTYPE=image/jpeg:https://thekerrvillelife.com/wp-content/uploads/2025/08/labor-day-summer-sendoff-weekend-at-yogi-bears-jellystone-park-guadalupe-river.jpg
END:VEVENT
BEGIN:VEVENT
DTSTART;TZID=America/Chicago:20250831T120000
DTEND;TZID=America/Chicago:20250831T150000
DTSTAMP:20260423T105930
CREATED:20250821T131056Z
LAST-MODIFIED:20250821T131056Z
UID:78606-1756641600-1756652400@thekerrvillelife.com
SUMMARY:Labor Day: Summer Sendoff Weekend at Yogi Bear’s Jellystone Park Guadalupe River
DESCRIPTION:Yogi Bear’s Jellystone Park Camp-Resort in Kerrville invites families to celebrate Labor Day with a weekend full of activities and entertainment. Highlights include a festive Block Party Potluck\, a Golf Cart Decorating Contest and Parade with patriotic flair\, and a Summer Sendoff Sport Competition where guests can show off their skills. Kids and adults alike will find plenty of fun to cap off the summer season.\n\n\nThe celebration runs from Friday\, August 29\, 2025\, at 1 pm through Monday\, September 1\, 2025\, at 4 pm at Yogi Bear’s Jellystone Park Camp-Resort: Guadalupe River\, 2605 Junction Highway\, Kerrville\, Texas 78028.
URL:https://thekerrvillelife.com/event/labor-day-summer-sendoff-weekend-at-yogi-bears-jellystone-park-guadalupe-river/2025-08-31/
LOCATION:Yogi Bear’s Jellystone Park Guadalupe River\, 2605 Junction Highway\, Kerrville\, TX\, 78028\, United States
CATEGORIES:Holiday,Kids & Family
ATTACH;FMTTYPE=image/jpeg:https://thekerrvillelife.com/wp-content/uploads/2025/08/labor-day-summer-sendoff-weekend-at-yogi-bears-jellystone-park-guadalupe-river.jpg
END:VEVENT
BEGIN:VEVENT
DTSTART;TZID=America/Chicago:20250830T120000
DTEND;TZID=America/Chicago:20250830T150000
DTSTAMP:20260423T105930
CREATED:20250821T131056Z
LAST-MODIFIED:20250821T131056Z
UID:78605-1756555200-1756566000@thekerrvillelife.com
SUMMARY:Labor Day: Summer Sendoff Weekend at Yogi Bear’s Jellystone Park Guadalupe River
DESCRIPTION:Yogi Bear’s Jellystone Park Camp-Resort in Kerrville invites families to celebrate Labor Day with a weekend full of activities and entertainment. Highlights include a festive Block Party Potluck\, a Golf Cart Decorating Contest and Parade with patriotic flair\, and a Summer Sendoff Sport Competition where guests can show off their skills. Kids and adults alike will find plenty of fun to cap off the summer season.\n\n\nThe celebration runs from Friday\, August 29\, 2025\, at 1 pm through Monday\, September 1\, 2025\, at 4 pm at Yogi Bear’s Jellystone Park Camp-Resort: Guadalupe River\, 2605 Junction Highway\, Kerrville\, Texas 78028.
URL:https://thekerrvillelife.com/event/labor-day-summer-sendoff-weekend-at-yogi-bears-jellystone-park-guadalupe-river/2025-08-30/
LOCATION:Yogi Bear’s Jellystone Park Guadalupe River\, 2605 Junction Highway\, Kerrville\, TX\, 78028\, United States
CATEGORIES:Holiday,Kids & Family
ATTACH;FMTTYPE=image/jpeg:https://thekerrvillelife.com/wp-content/uploads/2025/08/labor-day-summer-sendoff-weekend-at-yogi-bears-jellystone-park-guadalupe-river.jpg
END:VEVENT
BEGIN:VEVENT
DTSTART;TZID=America/Chicago:20250829T120000
DTEND;TZID=America/Chicago:20250829T150000
DTSTAMP:20260423T105930
CREATED:20250821T131056Z
LAST-MODIFIED:20250821T131056Z
UID:78601-1756468800-1756479600@thekerrvillelife.com
SUMMARY:Labor Day: Summer Sendoff Weekend at Yogi Bear’s Jellystone Park Guadalupe River
DESCRIPTION:Yogi Bear’s Jellystone Park Camp-Resort in Kerrville invites families to celebrate Labor Day with a weekend full of activities and entertainment. Highlights include a festive Block Party Potluck\, a Golf Cart Decorating Contest and Parade with patriotic flair\, and a Summer Sendoff Sport Competition where guests can show off their skills. Kids and adults alike will find plenty of fun to cap off the summer season.\n\n\nThe celebration runs from Friday\, August 29\, 2025\, at 1 pm through Monday\, September 1\, 2025\, at 4 pm at Yogi Bear’s Jellystone Park Camp-Resort: Guadalupe River\, 2605 Junction Highway\, Kerrville\, Texas 78028.
URL:https://thekerrvillelife.com/event/labor-day-summer-sendoff-weekend-at-yogi-bears-jellystone-park-guadalupe-river/2025-08-29/
LOCATION:Yogi Bear’s Jellystone Park Guadalupe River\, 2605 Junction Highway\, Kerrville\, TX\, 78028\, United States
CATEGORIES:Holiday,Kids & Family
ATTACH;FMTTYPE=image/jpeg:https://thekerrvillelife.com/wp-content/uploads/2025/08/labor-day-summer-sendoff-weekend-at-yogi-bears-jellystone-park-guadalupe-river.jpg
END:VEVENT
END:VCALENDAR