BEGIN:VCALENDAR
VERSION:2.0
PRODID:-//The Kerrville Life - ECPv6.15.20//NONSGML v1.0//EN
CALSCALE:GREGORIAN
METHOD:PUBLISH
X-WR-CALNAME:The Kerrville Life
X-ORIGINAL-URL:https://thekerrvillelife.com
X-WR-CALDESC:Events for The Kerrville Life
REFRESH-INTERVAL;VALUE=DURATION:PT1H
X-Robots-Tag:noindex
X-PUBLISHED-TTL:PT1H
BEGIN:VTIMEZONE
TZID:America/Chicago
BEGIN:DAYLIGHT
TZOFFSETFROM:-0600
TZOFFSETTO:-0500
TZNAME:CDT
DTSTART:20250309T080000
END:DAYLIGHT
BEGIN:STANDARD
TZOFFSETFROM:-0500
TZOFFSETTO:-0600
TZNAME:CST
DTSTART:20251102T070000
END:STANDARD
BEGIN:DAYLIGHT
TZOFFSETFROM:-0600
TZOFFSETTO:-0500
TZNAME:CDT
DTSTART:20260308T080000
END:DAYLIGHT
BEGIN:STANDARD
TZOFFSETFROM:-0500
TZOFFSETTO:-0600
TZNAME:CST
DTSTART:20261101T070000
END:STANDARD
BEGIN:DAYLIGHT
TZOFFSETFROM:-0600
TZOFFSETTO:-0500
TZNAME:CDT
DTSTART:20270314T080000
END:DAYLIGHT
BEGIN:STANDARD
TZOFFSETFROM:-0500
TZOFFSETTO:-0600
TZNAME:CST
DTSTART:20271107T070000
END:STANDARD
END:VTIMEZONE
BEGIN:VEVENT
DTSTART;TZID=America/Chicago:20260416T113000
DTEND;TZID=America/Chicago:20260416T123000
DTSTAMP:20260420T172708
CREATED:20251215T232939Z
LAST-MODIFIED:20251215T232939Z
UID:79781-1776339000-1776342600@thekerrvillelife.com
SUMMARY:KAC Networking Group at Inn of the Hills Hotel & Conference
DESCRIPTION:The KAC Networking Group offers a professional\, structured environment for local business people to promote their services while building meaningful connections through shared referrals\, knowledge\, and expertise. Hosted by the Kerrville Area Chamber of Commerce\, this networking group is designed to foster collaboration among members while maintaining a focused and organized format.\n\n\nMeetings take place from 11:30 am to 12:30 pm on the first and third Thursday of every month at the Inn of the Hills Hotel & Conference\, located at 1001 Junction Highway in Kerrville\, Texas. The group follows a one-industry-per-person model\, with membership available on a first-come\, first-served basis\, ensuring a diverse range of professional representation.\n\n\nParticipation is available to members of the Kerrville Area Chamber of Commerce\, and attendees can expect a consistent opportunity to build relationships and exchange business referrals in a supportive setting. For additional details about membership or meeting availability\, contact the Kerrville Area Chamber of Commerce directly.
URL:https://thekerrvillelife.com/event/kac-networking-group-at-inn-of-the-hills-hotel-conference/2026-04-16/
LOCATION:Inn of the Hills\, 1001 Junction Highway\, Kerrville\, TX\, 78028\, United States
CATEGORIES:Business & Networking
ATTACH;FMTTYPE=image/jpeg:https://thekerrvillelife.com/wp-content/uploads/2025/08/kac-networking-group-at-inn-of-the-hills.jpg
END:VEVENT
BEGIN:VEVENT
DTSTART;TZID=America/Chicago:20260402T113000
DTEND;TZID=America/Chicago:20260402T123000
DTSTAMP:20260420T172708
CREATED:20251215T232939Z
LAST-MODIFIED:20251215T232939Z
UID:79780-1775129400-1775133000@thekerrvillelife.com
SUMMARY:KAC Networking Group at Inn of the Hills Hotel & Conference
DESCRIPTION:The KAC Networking Group offers a professional\, structured environment for local business people to promote their services while building meaningful connections through shared referrals\, knowledge\, and expertise. Hosted by the Kerrville Area Chamber of Commerce\, this networking group is designed to foster collaboration among members while maintaining a focused and organized format.\n\n\nMeetings take place from 11:30 am to 12:30 pm on the first and third Thursday of every month at the Inn of the Hills Hotel & Conference\, located at 1001 Junction Highway in Kerrville\, Texas. The group follows a one-industry-per-person model\, with membership available on a first-come\, first-served basis\, ensuring a diverse range of professional representation.\n\n\nParticipation is available to members of the Kerrville Area Chamber of Commerce\, and attendees can expect a consistent opportunity to build relationships and exchange business referrals in a supportive setting. For additional details about membership or meeting availability\, contact the Kerrville Area Chamber of Commerce directly.
URL:https://thekerrvillelife.com/event/kac-networking-group-at-inn-of-the-hills-hotel-conference/2026-04-02/
LOCATION:Inn of the Hills\, 1001 Junction Highway\, Kerrville\, TX\, 78028\, United States
CATEGORIES:Business & Networking
ATTACH;FMTTYPE=image/jpeg:https://thekerrvillelife.com/wp-content/uploads/2025/08/kac-networking-group-at-inn-of-the-hills.jpg
END:VEVENT
BEGIN:VEVENT
DTSTART;TZID=America/Chicago:20260319T113000
DTEND;TZID=America/Chicago:20260319T123000
DTSTAMP:20260420T172708
CREATED:20251215T232939Z
LAST-MODIFIED:20251215T232939Z
UID:79779-1773919800-1773923400@thekerrvillelife.com
SUMMARY:KAC Networking Group at Inn of the Hills Hotel & Conference
DESCRIPTION:The KAC Networking Group offers a professional\, structured environment for local business people to promote their services while building meaningful connections through shared referrals\, knowledge\, and expertise. Hosted by the Kerrville Area Chamber of Commerce\, this networking group is designed to foster collaboration among members while maintaining a focused and organized format.\n\n\nMeetings take place from 11:30 am to 12:30 pm on the first and third Thursday of every month at the Inn of the Hills Hotel & Conference\, located at 1001 Junction Highway in Kerrville\, Texas. The group follows a one-industry-per-person model\, with membership available on a first-come\, first-served basis\, ensuring a diverse range of professional representation.\n\n\nParticipation is available to members of the Kerrville Area Chamber of Commerce\, and attendees can expect a consistent opportunity to build relationships and exchange business referrals in a supportive setting. For additional details about membership or meeting availability\, contact the Kerrville Area Chamber of Commerce directly.
URL:https://thekerrvillelife.com/event/kac-networking-group-at-inn-of-the-hills-hotel-conference/2026-03-19/
LOCATION:Inn of the Hills\, 1001 Junction Highway\, Kerrville\, TX\, 78028\, United States
CATEGORIES:Business & Networking
ATTACH;FMTTYPE=image/jpeg:https://thekerrvillelife.com/wp-content/uploads/2025/08/kac-networking-group-at-inn-of-the-hills.jpg
END:VEVENT
BEGIN:VEVENT
DTSTART;TZID=America/Chicago:20260305T113000
DTEND;TZID=America/Chicago:20260305T123000
DTSTAMP:20260420T172708
CREATED:20251215T232939Z
LAST-MODIFIED:20251215T232939Z
UID:79778-1772710200-1772713800@thekerrvillelife.com
SUMMARY:KAC Networking Group at Inn of the Hills Hotel & Conference
DESCRIPTION:The KAC Networking Group offers a professional\, structured environment for local business people to promote their services while building meaningful connections through shared referrals\, knowledge\, and expertise. Hosted by the Kerrville Area Chamber of Commerce\, this networking group is designed to foster collaboration among members while maintaining a focused and organized format.\n\n\nMeetings take place from 11:30 am to 12:30 pm on the first and third Thursday of every month at the Inn of the Hills Hotel & Conference\, located at 1001 Junction Highway in Kerrville\, Texas. The group follows a one-industry-per-person model\, with membership available on a first-come\, first-served basis\, ensuring a diverse range of professional representation.\n\n\nParticipation is available to members of the Kerrville Area Chamber of Commerce\, and attendees can expect a consistent opportunity to build relationships and exchange business referrals in a supportive setting. For additional details about membership or meeting availability\, contact the Kerrville Area Chamber of Commerce directly.
URL:https://thekerrvillelife.com/event/kac-networking-group-at-inn-of-the-hills-hotel-conference/2026-03-05/
LOCATION:Inn of the Hills\, 1001 Junction Highway\, Kerrville\, TX\, 78028\, United States
CATEGORIES:Business & Networking
ATTACH;FMTTYPE=image/jpeg:https://thekerrvillelife.com/wp-content/uploads/2025/08/kac-networking-group-at-inn-of-the-hills.jpg
END:VEVENT
BEGIN:VEVENT
DTSTART;TZID=America/Chicago:20260219T113000
DTEND;TZID=America/Chicago:20260219T123000
DTSTAMP:20260420T172708
CREATED:20251215T232939Z
LAST-MODIFIED:20251215T232939Z
UID:79777-1771500600-1771504200@thekerrvillelife.com
SUMMARY:KAC Networking Group at Inn of the Hills Hotel & Conference
DESCRIPTION:The KAC Networking Group offers a professional\, structured environment for local business people to promote their services while building meaningful connections through shared referrals\, knowledge\, and expertise. Hosted by the Kerrville Area Chamber of Commerce\, this networking group is designed to foster collaboration among members while maintaining a focused and organized format.\n\n\nMeetings take place from 11:30 am to 12:30 pm on the first and third Thursday of every month at the Inn of the Hills Hotel & Conference\, located at 1001 Junction Highway in Kerrville\, Texas. The group follows a one-industry-per-person model\, with membership available on a first-come\, first-served basis\, ensuring a diverse range of professional representation.\n\n\nParticipation is available to members of the Kerrville Area Chamber of Commerce\, and attendees can expect a consistent opportunity to build relationships and exchange business referrals in a supportive setting. For additional details about membership or meeting availability\, contact the Kerrville Area Chamber of Commerce directly.
URL:https://thekerrvillelife.com/event/kac-networking-group-at-inn-of-the-hills-hotel-conference/2026-02-19/
LOCATION:Inn of the Hills\, 1001 Junction Highway\, Kerrville\, TX\, 78028\, United States
CATEGORIES:Business & Networking
ATTACH;FMTTYPE=image/jpeg:https://thekerrvillelife.com/wp-content/uploads/2025/08/kac-networking-group-at-inn-of-the-hills.jpg
END:VEVENT
BEGIN:VEVENT
DTSTART;TZID=America/Chicago:20260205T113000
DTEND;TZID=America/Chicago:20260205T123000
DTSTAMP:20260420T172708
CREATED:20251215T232939Z
LAST-MODIFIED:20251215T232939Z
UID:79776-1770291000-1770294600@thekerrvillelife.com
SUMMARY:KAC Networking Group at Inn of the Hills Hotel & Conference
DESCRIPTION:The KAC Networking Group offers a professional\, structured environment for local business people to promote their services while building meaningful connections through shared referrals\, knowledge\, and expertise. Hosted by the Kerrville Area Chamber of Commerce\, this networking group is designed to foster collaboration among members while maintaining a focused and organized format.\n\n\nMeetings take place from 11:30 am to 12:30 pm on the first and third Thursday of every month at the Inn of the Hills Hotel & Conference\, located at 1001 Junction Highway in Kerrville\, Texas. The group follows a one-industry-per-person model\, with membership available on a first-come\, first-served basis\, ensuring a diverse range of professional representation.\n\n\nParticipation is available to members of the Kerrville Area Chamber of Commerce\, and attendees can expect a consistent opportunity to build relationships and exchange business referrals in a supportive setting. For additional details about membership or meeting availability\, contact the Kerrville Area Chamber of Commerce directly.
URL:https://thekerrvillelife.com/event/kac-networking-group-at-inn-of-the-hills-hotel-conference/2026-02-05/
LOCATION:Inn of the Hills\, 1001 Junction Highway\, Kerrville\, TX\, 78028\, United States
CATEGORIES:Business & Networking
ATTACH;FMTTYPE=image/jpeg:https://thekerrvillelife.com/wp-content/uploads/2025/08/kac-networking-group-at-inn-of-the-hills.jpg
END:VEVENT
BEGIN:VEVENT
DTSTART;TZID=America/Chicago:20260115T113000
DTEND;TZID=America/Chicago:20260115T123000
DTSTAMP:20260420T172708
CREATED:20251215T232939Z
LAST-MODIFIED:20251215T233320Z
UID:79751-1768476600-1768480200@thekerrvillelife.com
SUMMARY:KAC Networking Group at Inn of the Hills Hotel & Conference
DESCRIPTION:The KAC Networking Group offers a professional\, structured environment for local business people to promote their services while building meaningful connections through shared referrals\, knowledge\, and expertise. Hosted by the Kerrville Area Chamber of Commerce\, this networking group is designed to foster collaboration among members while maintaining a focused and organized format.\n\n\nMeetings take place from 11:30 am to 12:30 pm on the first and third Thursday of every month at the Inn of the Hills Hotel & Conference\, located at 1001 Junction Highway in Kerrville\, Texas. The group follows a one-industry-per-person model\, with membership available on a first-come\, first-served basis\, ensuring a diverse range of professional representation.\n\n\nParticipation is available to members of the Kerrville Area Chamber of Commerce\, and attendees can expect a consistent opportunity to build relationships and exchange business referrals in a supportive setting. For additional details about membership or meeting availability\, contact the Kerrville Area Chamber of Commerce directly.
URL:https://thekerrvillelife.com/event/kac-networking-group-at-inn-of-the-hills-hotel-conference/2026-01-15/
LOCATION:Inn of the Hills\, 1001 Junction Highway\, Kerrville\, TX\, 78028\, United States
CATEGORIES:Business & Networking
ATTACH;FMTTYPE=image/jpeg:https://thekerrvillelife.com/wp-content/uploads/2025/08/kac-networking-group-at-inn-of-the-hills.jpg
END:VEVENT
BEGIN:VEVENT
DTSTART;TZID=America/Chicago:20260101T113000
DTEND;TZID=America/Chicago:20260101T123000
DTSTAMP:20260420T172708
CREATED:20251215T232939Z
LAST-MODIFIED:20251215T233300Z
UID:79750-1767267000-1767270600@thekerrvillelife.com
SUMMARY:KAC Networking Group at Inn of the Hills Hotel & Conference
DESCRIPTION:The KAC Networking Group offers a professional\, structured environment for local business people to promote their services while building meaningful connections through shared referrals\, knowledge\, and expertise. Hosted by the Kerrville Area Chamber of Commerce\, this networking group is designed to foster collaboration among members while maintaining a focused and organized format.\n\n\nMeetings take place from 11:30 am to 12:30 pm on the first and third Thursday of every month at the Inn of the Hills Hotel & Conference\, located at 1001 Junction Highway in Kerrville\, Texas. The group follows a one-industry-per-person model\, with membership available on a first-come\, first-served basis\, ensuring a diverse range of professional representation.\n\n\nParticipation is available to members of the Kerrville Area Chamber of Commerce\, and attendees can expect a consistent opportunity to build relationships and exchange business referrals in a supportive setting. For additional details about membership or meeting availability\, contact the Kerrville Area Chamber of Commerce directly.
URL:https://thekerrvillelife.com/event/kac-networking-group-at-inn-of-the-hills-hotel-conference/2026-01-01/
LOCATION:Inn of the Hills\, 1001 Junction Highway\, Kerrville\, TX\, 78028\, United States
CATEGORIES:Business & Networking
ATTACH;FMTTYPE=image/jpeg:https://thekerrvillelife.com/wp-content/uploads/2025/08/kac-networking-group-at-inn-of-the-hills.jpg
END:VEVENT
END:VCALENDAR