BEGIN:VCALENDAR
VERSION:2.0
PRODID:-//The Kerrville Life - ECPv6.15.20//NONSGML v1.0//EN
CALSCALE:GREGORIAN
METHOD:PUBLISH
X-WR-CALNAME:The Kerrville Life
X-ORIGINAL-URL:https://thekerrvillelife.com
X-WR-CALDESC:Events for The Kerrville Life
REFRESH-INTERVAL;VALUE=DURATION:PT1H
X-Robots-Tag:noindex
X-PUBLISHED-TTL:PT1H
BEGIN:VTIMEZONE
TZID:America/Chicago
BEGIN:DAYLIGHT
TZOFFSETFROM:-0600
TZOFFSETTO:-0500
TZNAME:CDT
DTSTART:20240310T080000
END:DAYLIGHT
BEGIN:STANDARD
TZOFFSETFROM:-0500
TZOFFSETTO:-0600
TZNAME:CST
DTSTART:20241103T070000
END:STANDARD
BEGIN:DAYLIGHT
TZOFFSETFROM:-0600
TZOFFSETTO:-0500
TZNAME:CDT
DTSTART:20250309T080000
END:DAYLIGHT
BEGIN:STANDARD
TZOFFSETFROM:-0500
TZOFFSETTO:-0600
TZNAME:CST
DTSTART:20251102T070000
END:STANDARD
BEGIN:DAYLIGHT
TZOFFSETFROM:-0600
TZOFFSETTO:-0500
TZNAME:CDT
DTSTART:20260308T080000
END:DAYLIGHT
BEGIN:STANDARD
TZOFFSETFROM:-0500
TZOFFSETTO:-0600
TZNAME:CST
DTSTART:20261101T070000
END:STANDARD
END:VTIMEZONE
BEGIN:VEVENT
DTSTART;TZID=America/Chicago:20251024T160000
DTEND;TZID=America/Chicago:20251024T190000
DTSTAMP:20260421T082225
CREATED:20250821T130709Z
LAST-MODIFIED:20250821T130709Z
UID:78940-1761321600-1761332400@thekerrvillelife.com
SUMMARY:After Hours at Turtle Creek Vineyard
DESCRIPTION:Turtle Creek Vineyard in Kerrville hosts After Hours\, a relaxed evening music series set against a picturesque Hill Country backdrop. From 5 pm to 8 pm\, guests can unwind with live performances by local artists. Upcoming dates include Friday\, August 15 with Matthew James Butler\, Friday\, August 29 with Bill Mahkovtz\, Friday\, September 12 with Walker Hicks\, Friday\, September 26 with Lee Winright\, Friday\, October 10 with In Six Days\, and Friday\, October 24 with Steve Garry.\n\n\nAdmission is free. The series takes place from 5 pm to 8 pm at Turtle Creek Vineyard\, 183 Fall Creek Road\, Kerrville\, Texas 78028. For details and updates\, visit http://www.turtlecreekvineyard.com or contact Justine Thompson.
URL:https://thekerrvillelife.com/event/after-hours-with-bill-mahkovtz-at-turtle-creek-vineyard/2025-10-24/
LOCATION:Turtle Creek Vineyard\, 183 Fall Creek Road\, Kerrville\, TX\, 78028\, United States
CATEGORIES:Music
ATTACH;FMTTYPE=image/jpeg:https://thekerrvillelife.com/wp-content/uploads/2025/08/after-hours-at-turtle-creek-vineyard-with-bill-mahkovtz.jpg
END:VEVENT
BEGIN:VEVENT
DTSTART;TZID=America/Chicago:20251010T160000
DTEND;TZID=America/Chicago:20251010T190000
DTSTAMP:20260421T082225
CREATED:20250821T130709Z
LAST-MODIFIED:20250821T130709Z
UID:78939-1760112000-1760122800@thekerrvillelife.com
SUMMARY:After Hours at Turtle Creek Vineyard
DESCRIPTION:Turtle Creek Vineyard in Kerrville hosts After Hours\, a relaxed evening music series set against a picturesque Hill Country backdrop. From 5 pm to 8 pm\, guests can unwind with live performances by local artists. Upcoming dates include Friday\, August 15 with Matthew James Butler\, Friday\, August 29 with Bill Mahkovtz\, Friday\, September 12 with Walker Hicks\, Friday\, September 26 with Lee Winright\, Friday\, October 10 with In Six Days\, and Friday\, October 24 with Steve Garry.\n\n\nAdmission is free. The series takes place from 5 pm to 8 pm at Turtle Creek Vineyard\, 183 Fall Creek Road\, Kerrville\, Texas 78028. For details and updates\, visit http://www.turtlecreekvineyard.com or contact Justine Thompson.
URL:https://thekerrvillelife.com/event/after-hours-with-bill-mahkovtz-at-turtle-creek-vineyard/2025-10-10/
LOCATION:Turtle Creek Vineyard\, 183 Fall Creek Road\, Kerrville\, TX\, 78028\, United States
CATEGORIES:Music
ATTACH;FMTTYPE=image/jpeg:https://thekerrvillelife.com/wp-content/uploads/2025/08/after-hours-at-turtle-creek-vineyard-with-bill-mahkovtz.jpg
END:VEVENT
BEGIN:VEVENT
DTSTART;TZID=America/Chicago:20250926T160000
DTEND;TZID=America/Chicago:20250926T190000
DTSTAMP:20260421T082225
CREATED:20250821T130709Z
LAST-MODIFIED:20250821T130709Z
UID:78938-1758902400-1758913200@thekerrvillelife.com
SUMMARY:After Hours at Turtle Creek Vineyard
DESCRIPTION:Turtle Creek Vineyard in Kerrville hosts After Hours\, a relaxed evening music series set against a picturesque Hill Country backdrop. From 5 pm to 8 pm\, guests can unwind with live performances by local artists. Upcoming dates include Friday\, August 15 with Matthew James Butler\, Friday\, August 29 with Bill Mahkovtz\, Friday\, September 12 with Walker Hicks\, Friday\, September 26 with Lee Winright\, Friday\, October 10 with In Six Days\, and Friday\, October 24 with Steve Garry.\n\n\nAdmission is free. The series takes place from 5 pm to 8 pm at Turtle Creek Vineyard\, 183 Fall Creek Road\, Kerrville\, Texas 78028. For details and updates\, visit http://www.turtlecreekvineyard.com or contact Justine Thompson.
URL:https://thekerrvillelife.com/event/after-hours-with-bill-mahkovtz-at-turtle-creek-vineyard/2025-09-26/
LOCATION:Turtle Creek Vineyard\, 183 Fall Creek Road\, Kerrville\, TX\, 78028\, United States
CATEGORIES:Music
ATTACH;FMTTYPE=image/jpeg:https://thekerrvillelife.com/wp-content/uploads/2025/08/after-hours-at-turtle-creek-vineyard-with-bill-mahkovtz.jpg
END:VEVENT
BEGIN:VEVENT
DTSTART;TZID=America/Chicago:20250912T160000
DTEND;TZID=America/Chicago:20250912T190000
DTSTAMP:20260421T082225
CREATED:20250821T130709Z
LAST-MODIFIED:20250821T130709Z
UID:78937-1757692800-1757703600@thekerrvillelife.com
SUMMARY:After Hours at Turtle Creek Vineyard
DESCRIPTION:Turtle Creek Vineyard in Kerrville hosts After Hours\, a relaxed evening music series set against a picturesque Hill Country backdrop. From 5 pm to 8 pm\, guests can unwind with live performances by local artists. Upcoming dates include Friday\, August 15 with Matthew James Butler\, Friday\, August 29 with Bill Mahkovtz\, Friday\, September 12 with Walker Hicks\, Friday\, September 26 with Lee Winright\, Friday\, October 10 with In Six Days\, and Friday\, October 24 with Steve Garry.\n\n\nAdmission is free. The series takes place from 5 pm to 8 pm at Turtle Creek Vineyard\, 183 Fall Creek Road\, Kerrville\, Texas 78028. For details and updates\, visit http://www.turtlecreekvineyard.com or contact Justine Thompson.
URL:https://thekerrvillelife.com/event/after-hours-with-bill-mahkovtz-at-turtle-creek-vineyard/2025-09-12/
LOCATION:Turtle Creek Vineyard\, 183 Fall Creek Road\, Kerrville\, TX\, 78028\, United States
CATEGORIES:Music
ATTACH;FMTTYPE=image/jpeg:https://thekerrvillelife.com/wp-content/uploads/2025/08/after-hours-at-turtle-creek-vineyard-with-bill-mahkovtz.jpg
END:VEVENT
BEGIN:VEVENT
DTSTART;TZID=America/Chicago:20250829T160000
DTEND;TZID=America/Chicago:20250829T190000
DTSTAMP:20260421T082225
CREATED:20250821T130709Z
LAST-MODIFIED:20250911T015154Z
UID:78598-1756483200-1756494000@thekerrvillelife.com
SUMMARY:After Hours at Turtle Creek Vineyard
DESCRIPTION:Turtle Creek Vineyard in Kerrville hosts After Hours\, a relaxed evening music series set against a picturesque Hill Country backdrop. From 5 pm to 8 pm\, guests can unwind with live performances by local artists. Upcoming dates include Friday\, August 15 with Matthew James Butler\, Friday\, August 29 with Bill Mahkovtz\, Friday\, September 12 with Walker Hicks\, Friday\, September 26 with Lee Winright\, Friday\, October 10 with In Six Days\, and Friday\, October 24 with Steve Garry.\n\n\nAdmission is free. The series takes place from 5 pm to 8 pm at Turtle Creek Vineyard\, 183 Fall Creek Road\, Kerrville\, Texas 78028. For details and updates\, visit http://www.turtlecreekvineyard.com or contact Justine Thompson.
URL:https://thekerrvillelife.com/event/after-hours-with-bill-mahkovtz-at-turtle-creek-vineyard/2025-08-29/
LOCATION:Turtle Creek Vineyard\, 183 Fall Creek Road\, Kerrville\, TX\, 78028\, United States
CATEGORIES:Music
ATTACH;FMTTYPE=image/jpeg:https://thekerrvillelife.com/wp-content/uploads/2025/08/after-hours-at-turtle-creek-vineyard-with-bill-mahkovtz.jpg
END:VEVENT
END:VCALENDAR